BEGIN:VCALENDAR
VERSION:2.0
PRODID:-//3qinnovation.org//NONSGML kigkonsult.se iCalcreator 2.30.10//
CALSCALE:GREGORIAN
METHOD:PUBLISH
UID:443897ab-e69c-4327-b0ca-25dc7530deb4
X-WR-CALDESC:NESEA's BuildingEnergy NYC conference and trade show is a chan
 ce to immerse in a full day of networking and intensive learning with peer
 s from the fields of design\, construction\, engineering\, policy\, financ
 e\, and beyond. Conference sessions will feature best practices | lessons 
 learned from real case studies and proven data. They will also showcase in
 novative technologies and programs. \n\nBuilding sustainability profession
 als at all levels will benefit from attending.
X-WR-RELCALID:ec0f30018d524da1727c30cf331e0ddc
X-WR-TIMEZONE:America/New_York
BEGIN:VTIMEZONE
TZID:America/New_York
BEGIN:STANDARD
TZNAME:EST
DTSTART:20231105T020000
TZOFFSETFROM:-0400
TZOFFSETTO:-0500
RDATE:20241103T020000
RDATE:20251102T020000
END:STANDARD
BEGIN:DAYLIGHT
TZNAME:EDT
DTSTART:20240310T020000
TZOFFSETFROM:-0500
TZOFFSETTO:-0400
RDATE:20250309T020000
RDATE:20260308T020000
END:DAYLIGHT
END:VTIMEZONE
BEGIN:VEVENT
UID:a4c8fb4e-3665-4c53-bb6c-b4601e848960
DTSTAMP:20260422T114038Z
DESCRIPTION:NESEA's BuildingEnergy NYC conference and trade show is a chanc
 e to immerse in a full day of networking and intensive learning with peers
  from the fields of design\, construction\, engineering\, policy\, finance
 \, and beyond. Conference sessions will feature best practices | lessons l
 earned from real case studies and proven data. They will also showcase inn
 ovative technologies and programs. \n\nBuilding sustainability professiona
 ls at all levels will benefit from attending.
DTSTART;TZID=America/New_York:20241024T090000
DTEND;TZID=America/New_York:20241024T170000
LOCATION:
SUMMARY:BuildingEnergy NYC 2024
END:VEVENT
END:VCALENDAR
