BEGIN:VCALENDAR
VERSION:2.0
PRODID:-//3qinnovation.org//NONSGML kigkonsult.se iCalcreator 2.30.10//
CALSCALE:GREGORIAN
METHOD:PUBLISH
UID:fb432aa7-99fc-4022-b1d2-f94bb6881d9a
X-WR-CALDESC:Join AIANY for a conversation on Rising Currents on the 12th a
 nniversary of Hurricane Sandy.\n\nRising Currents\, a workshop held at MoM
 A PS1 in 2009 (leading to an exhibition at MoMA in 2010)\, featured five i
 nterdisciplinary teams of designers-in-residence\, tasked with re-envision
 ing vulnerable areas of the coastlines of New York City and nearby New Jer
 sey around New York Harbor.\n\nThe Rising Currents project returned to the
  forefront of discussion after Hurricane Sandy in 2012 and accelerated New
  York City’s need for coastline resiliency. This panel is at once a reunio
 n\, a 'taking stock'\, and a discussion on next steps on an issue that has
  only intensified in urgency.
X-WR-RELCALID:ac01b875108453cd20a474fc6d89ec00
X-WR-TIMEZONE:America/New_York
BEGIN:VTIMEZONE
TZID:America/New_York
BEGIN:STANDARD
TZNAME:EST
DTSTART:20231105T020000
TZOFFSETFROM:-0400
TZOFFSETTO:-0500
RDATE:20241103T020000
RDATE:20251102T020000
END:STANDARD
BEGIN:DAYLIGHT
TZNAME:EDT
DTSTART:20240310T020000
TZOFFSETFROM:-0500
TZOFFSETTO:-0400
RDATE:20250309T020000
RDATE:20260308T020000
END:DAYLIGHT
END:VTIMEZONE
BEGIN:VEVENT
UID:3ae73e3b-663d-4b67-a84f-8a1c917b8f76
DTSTAMP:20260422T114923Z
DESCRIPTION:Join AIANY for a conversation on Rising Currents on the 12th an
 niversary of Hurricane Sandy.\n\nRising Currents\, a workshop held at MoMA
  PS1 in 2009 (leading to an exhibition at MoMA in 2010)\, featured five in
 terdisciplinary teams of designers-in-residence\, tasked with re-envisioni
 ng vulnerable areas of the coastlines of New York City and nearby New Jers
 ey around New York Harbor.\n\nThe Rising Currents project returned to the 
 forefront of discussion after Hurricane Sandy in 2012 and accelerated New 
 York City’s need for coastline resiliency. This panel is at once a reunion
 \, a 'taking stock'\, and a discussion on next steps on an issue that has 
 only intensified in urgency.
DTSTART;TZID=America/New_York:20241022T180000
DTEND;TZID=America/New_York:20241022T200000
LOCATION:
SUMMARY:Rising Currents at 15: Coastline Resiliency Post Sandy
END:VEVENT
END:VCALENDAR
