BEGIN:VCALENDAR
VERSION:2.0
PRODID:-//3qinnovation.org//NONSGML kigkonsult.se iCalcreator 2.30.10//
CALSCALE:GREGORIAN
METHOD:PUBLISH
UID:2c75273b-0fc8-435c-9940-39296e5ea0db
X-WR-CALDESC:The Architecture & Design College Fair provides an opportunity
  for high school and college students\, parents\, and school counselors to
  interface with school representatives from architecture and design school
 s. Students are invited to attend this FREE college fair to learn more abo
 ut applying to architecture school. Representatives from over 30 schools w
 ill be available at the Center for Architecture to meet with students and 
 answer questions.  Event registration is required.
X-WR-RELCALID:4d4b5dd194db7c4b22c4bd37628160be
X-WR-TIMEZONE:America/New_York
BEGIN:VTIMEZONE
TZID:America/New_York
BEGIN:STANDARD
TZNAME:EST
DTSTART:20231105T020000
TZOFFSETFROM:-0400
TZOFFSETTO:-0500
RDATE:20241103T020000
RDATE:20251102T020000
END:STANDARD
BEGIN:DAYLIGHT
TZNAME:EDT
DTSTART:20240310T020000
TZOFFSETFROM:-0500
TZOFFSETTO:-0400
RDATE:20250309T020000
RDATE:20260308T020000
END:DAYLIGHT
END:VTIMEZONE
BEGIN:VEVENT
UID:923d9433-daee-4ef4-ad82-d67fe4dc5151
DTSTAMP:20260422T114912Z
DESCRIPTION:The Architecture & Design College Fair provides an opportunity 
 for high school and college students\, parents\, and school counselors to 
 interface with school representatives from architecture and design schools
 . Students are invited to attend this FREE college fair to learn more abou
 t applying to architecture school. Representatives from over 30 schools wi
 ll be available at the Center for Architecture to meet with students and a
 nswer questions.  Event registration is required.
DTSTART;TZID=America/New_York:20241019T110000
DTEND;TZID=America/New_York:20241019T150000
LOCATION:
SUMMARY:Architecture & Design College Fair 2024
END:VEVENT
END:VCALENDAR
