BEGIN:VCALENDAR
VERSION:2.0
PRODID:-//3qinnovation.org//NONSGML kigkonsult.se iCalcreator 2.30.10//
CALSCALE:GREGORIAN
METHOD:PUBLISH
UID:0419f116-745a-421a-a4a8-4a281db59cf6
X-WR-CALDESC:Since the release of the Zero Waste Design Guidelines in 2017\
 , the AIANY Committee on the Environment (COTE) has advocated for and coll
 aborated with the Department of Sanitation (DSNY) on waste containerizatio
 n as a strategy to eliminate the blight of garbage bags on city sidewalks.
  \n\nAIANY COTE and the Center for Zero Waste Design (CfZWD)\, in partners
 hip with the Alliance for Public Space Leadership\, are hosting a panel to
  discuss DSNY’s new regulations and their impacts on NYC’s sidewalks and s
 treetscapes. Hear from public space advocates\, urban designers\, policyma
 kers and building managers as they discuss both DSNY’s approach and the Cf
 ZWD’s proposed alternatives\, outlined in its just-released containerizati
 on report. (The report is the result of years of field research\, gatherin
 g best practices from cities worldwide as well as analyses of NYC’s archit
 ectural and urban conditions.)\n\nLearn how waste containerization can kee
 p sidewalks clear\, make better use of curb space\, improve labor for buil
 ding staff and waste haulers\, and incentivize waste reduction.
X-WR-RELCALID:362f94079156edd195ec236f12445c79
X-WR-TIMEZONE:America/New_York
BEGIN:VTIMEZONE
TZID:America/New_York
BEGIN:STANDARD
TZNAME:EST
DTSTART:20231105T020000
TZOFFSETFROM:-0400
TZOFFSETTO:-0500
RDATE:20241103T020000
RDATE:20251102T020000
END:STANDARD
BEGIN:DAYLIGHT
TZNAME:EDT
DTSTART:20240310T020000
TZOFFSETFROM:-0500
TZOFFSETTO:-0400
RDATE:20250309T020000
RDATE:20260308T020000
END:DAYLIGHT
END:VTIMEZONE
BEGIN:VEVENT
UID:edc9b223-4e31-456a-a913-fffd7c618874
DTSTAMP:20260422T113751Z
DESCRIPTION:Since the release of the Zero Waste Design Guidelines in 2017\,
  the AIANY Committee on the Environment (COTE) has advocated for and colla
 borated with the Department of Sanitation (DSNY) on waste containerization
  as a strategy to eliminate the blight of garbage bags on city sidewalks. 
 \n\nAIANY COTE and the Center for Zero Waste Design (CfZWD)\, in partnersh
 ip with the Alliance for Public Space Leadership\, are hosting a panel to 
 discuss DSNY’s new regulations and their impacts on NYC’s sidewalks and st
 reetscapes. Hear from public space advocates\, urban designers\, policymak
 ers and building managers as they discuss both DSNY’s approach and the CfZ
 WD’s proposed alternatives\, outlined in its just-released containerizatio
 n report. (The report is the result of years of field research\, gathering
  best practices from cities worldwide as well as analyses of NYC’s archite
 ctural and urban conditions.)\n\nLearn how waste containerization can keep
  sidewalks clear\, make better use of curb space\, improve labor for build
 ing staff and waste haulers\, and incentivize waste reduction.
DTSTART;TZID=America/New_York:20241016T180000
DTEND;TZID=America/New_York:20241016T200000
LOCATION:
SUMMARY:Designing Waste Containerization into Streetscapes
END:VEVENT
END:VCALENDAR
