BEGIN:VCALENDAR
VERSION:2.0
PRODID:-//3qinnovation.org//NONSGML kigkonsult.se iCalcreator 2.30.10//
CALSCALE:GREGORIAN
METHOD:PUBLISH
UID:cacd1469-b8d2-4db1-a9ed-ccd849df3941
X-WR-CALDESC:SAGE Development Authority is in the process of envisioning a 
 cultural center on the Standing Rock Nation. The innovative project ensure
 s the project is rooted in culture\, ecology\, and site. This presentation
  will explore community engagement strategies\, environmental consideratio
 ns\, and the design process that guided the project. Attendees will learn 
 about the challenges and successes of integrating traditional knowledge wi
 th contemporary design practices to create a space that promotes healing\,
  unity\, and cultural continuity for the Standing Rock Nation.
X-WR-RELCALID:6e75d965fbd4cafc7d32c6108b32104c
X-WR-TIMEZONE:America/New_York
BEGIN:VTIMEZONE
TZID:America/New_York
BEGIN:STANDARD
TZNAME:EST
DTSTART:20231105T020000
TZOFFSETFROM:-0400
TZOFFSETTO:-0500
RDATE:20241103T020000
RDATE:20251102T020000
END:STANDARD
BEGIN:DAYLIGHT
TZNAME:EDT
DTSTART:20240310T020000
TZOFFSETFROM:-0500
TZOFFSETTO:-0400
RDATE:20250309T020000
RDATE:20260308T020000
END:DAYLIGHT
END:VTIMEZONE
BEGIN:VEVENT
UID:d406744f-52fd-4cc3-9371-0d9429b86852
DTSTAMP:20260422T114110Z
DESCRIPTION:SAGE Development Authority is in the process of envisioning a c
 ultural center on the Standing Rock Nation. The innovative project ensures
  the project is rooted in culture\, ecology\, and site. This presentation 
 will explore community engagement strategies\, environmental consideration
 s\, and the design process that guided the project. Attendees will learn a
 bout the challenges and successes of integrating traditional knowledge wit
 h contemporary design practices to create a space that promotes healing\, 
 unity\, and cultural continuity for the Standing Rock Nation.
DTSTART;TZID=America/New_York:20241015T130000
DTEND;TZID=America/New_York:20241015T140000
LOCATION:
SUMMARY:Braiding Past\, Present\, & Future: Honoring Standing Rock Culture 
 through Design
END:VEVENT
END:VCALENDAR
