BEGIN:VCALENDAR
VERSION:2.0
PRODID:-//3qinnovation.org//NONSGML kigkonsult.se iCalcreator 2.30.10//
CALSCALE:GREGORIAN
METHOD:PUBLISH
UID:ce640cbd-5af9-4872-80f1-9371ce271fa5
X-WR-CALDESC:Join BE-Ex\, Pratt Institute\, and NYSERDA for an insightful p
 anel discussion where leading experts will discuss the impact of Passive H
 ouse standards on the building industry\, the importance of education and 
 workforce development in advancing high-performance design\, plus current 
 design trends in professional practice.  Following the panel discussion\, 
 attendees will be able to participate in a live Q&A session.\n\nPassive Ho
 use is the most rigorous energy efficiency standard a building can achieve
 \, focusing on maximizing energy efficiency and building performance while
  enhancing comfort and quality of life for occupants. It plays a crucial r
 ole in meeting stringent regulations (like Local Law 97).
X-WR-RELCALID:00ae08fde2029c1b957b67750e7b8412
X-WR-TIMEZONE:America/New_York
BEGIN:VTIMEZONE
TZID:America/New_York
BEGIN:STANDARD
TZNAME:EST
DTSTART:20231105T020000
TZOFFSETFROM:-0400
TZOFFSETTO:-0500
RDATE:20241103T020000
RDATE:20251102T020000
END:STANDARD
BEGIN:DAYLIGHT
TZNAME:EDT
DTSTART:20240310T020000
TZOFFSETFROM:-0500
TZOFFSETTO:-0400
RDATE:20250309T020000
RDATE:20260308T020000
END:DAYLIGHT
END:VTIMEZONE
BEGIN:VEVENT
UID:f54e7b1b-7f82-4d82-a6a5-45935de7f221
DTSTAMP:20260422T153643Z
DESCRIPTION:Join BE-Ex\, Pratt Institute\, and NYSERDA for an insightful pa
 nel discussion where leading experts will discuss the impact of Passive Ho
 use standards on the building industry\, the importance of education and w
 orkforce development in advancing high-performance design\, plus current d
 esign trends in professional practice.  Following the panel discussion\, a
 ttendees will be able to participate in a live Q&A session.\n\nPassive Hou
 se is the most rigorous energy efficiency standard a building can achieve\
 , focusing on maximizing energy efficiency and building performance while 
 enhancing comfort and quality of life for occupants. It plays a crucial ro
 le in meeting stringent regulations (like Local Law 97).
DTSTART;TZID=America/New_York:20241009T093000
DTEND;TZID=America/New_York:20241009T110000
LOCATION:
SUMMARY:Passive House for Everyone: Are We There Yet?
END:VEVENT
END:VCALENDAR
