BEGIN:VCALENDAR
VERSION:2.0
PRODID:-//3qinnovation.org//NONSGML kigkonsult.se iCalcreator 2.30.10//
CALSCALE:GREGORIAN
METHOD:PUBLISH
UID:f40267ae-adf9-45cf-9fcc-8cb56a5eba8e
X-WR-CALDESC:Part of NESEA's BuildingEnergy NYC Wednesday Webinars\, this s
 ession will discuss the next iteration of the LEED green building certific
 ation system (LEED v5) with U.S. Green Building Council (USGBC) staff and 
 local experts.  The new rating system's structure - and how to engage in i
 t - will be explained.  As well\, NY State's efforts toward a built enviro
 nment low-carbon future and NYC’s Local Law 97 will be discussed.  \n\nAtt
 endees will have the opportunity to ask questions and offer insights as th
 ey learn more about USGBC’s work to create an end-to-end ecosystem for gre
 en buildings\, ensuring the built environment is supported in meeting goal
 s from design to operations.
X-WR-RELCALID:4ccd3239be7e36b99edf470a85e97948
X-WR-TIMEZONE:America/New_York
BEGIN:VTIMEZONE
TZID:America/New_York
BEGIN:STANDARD
TZNAME:EST
DTSTART:20231105T020000
TZOFFSETFROM:-0400
TZOFFSETTO:-0500
RDATE:20241103T020000
RDATE:20251102T020000
END:STANDARD
BEGIN:DAYLIGHT
TZNAME:EDT
DTSTART:20240310T020000
TZOFFSETFROM:-0500
TZOFFSETTO:-0400
RDATE:20250309T020000
RDATE:20260308T020000
END:DAYLIGHT
END:VTIMEZONE
BEGIN:VEVENT
UID:0841acd6-6029-4151-895c-4d8af6e193ca
DTSTAMP:20260422T114733Z
DESCRIPTION:Part of NESEA's BuildingEnergy NYC Wednesday Webinars\, this se
 ssion will discuss the next iteration of the LEED green building certifica
 tion system (LEED v5) with U.S. Green Building Council (USGBC) staff and l
 ocal experts.  The new rating system's structure - and how to engage in it
  - will be explained.  As well\, NY State's efforts toward a built environ
 ment low-carbon future and NYC’s Local Law 97 will be discussed.  \n\nAtte
 ndees will have the opportunity to ask questions and offer insights as the
 y learn more about USGBC’s work to create an end-to-end ecosystem for gree
 n buildings\, ensuring the built environment is supported in meeting goals
  from design to operations.
DTSTART;TZID=America/New_York:20241009T130000
DTEND;TZID=America/New_York:20241009T140000
LOCATION:
SUMMARY:Decarbonizing New York — Local Law 97 and LEEDv5
END:VEVENT
END:VCALENDAR
