BEGIN:VCALENDAR
VERSION:2.0
PRODID:-//3qinnovation.org//NONSGML kigkonsult.se iCalcreator 2.30.10//
CALSCALE:GREGORIAN
METHOD:PUBLISH
UID:b64c34ef-91ed-468e-894a-d9cde0b9bf53
X-WR-CALDESC:Join USGBC's Advocacy & Policy team for their quarterly look i
 nto specific green building policy topics. This session will highlight Ste
 phanie Barger\, USGBC's market transformation and development lead for the
  TRUE Zero Waste program. Attendees will learn more about the TRUE program
  and ways to advocate for zero waste legislation.
X-WR-RELCALID:a18c7899fdfb328af696d90a77c8fe8f
X-WR-TIMEZONE:America/New_York
BEGIN:VTIMEZONE
TZID:America/New_York
BEGIN:STANDARD
TZNAME:EST
DTSTART:20231105T020000
TZOFFSETFROM:-0400
TZOFFSETTO:-0500
RDATE:20241103T020000
RDATE:20251102T020000
END:STANDARD
BEGIN:DAYLIGHT
TZNAME:EDT
DTSTART:20240310T020000
TZOFFSETFROM:-0500
TZOFFSETTO:-0400
RDATE:20250309T020000
RDATE:20260308T020000
END:DAYLIGHT
END:VTIMEZONE
BEGIN:VEVENT
UID:41695daf-5370-4113-8caa-5c53c6e1b2be
DTSTAMP:20260422T114007Z
DESCRIPTION:Join USGBC's Advocacy & Policy team for their quarterly look in
 to specific green building policy topics. This session will highlight Step
 hanie Barger\, USGBC's market transformation and development lead for the 
 TRUE Zero Waste program. Attendees will learn more about the TRUE program 
 and ways to advocate for zero waste legislation.
DTSTART;TZID=America/New_York:20241008T150000
DTEND;TZID=America/New_York:20241008T160000
LOCATION:
SUMMARY:USGBC Advocacy Topical Webinar Series
END:VEVENT
END:VCALENDAR
