BEGIN:VCALENDAR
VERSION:2.0
PRODID:-//3qinnovation.org//NONSGML kigkonsult.se iCalcreator 2.30.10//
CALSCALE:GREGORIAN
METHOD:PUBLISH
UID:fed9dd9c-e975-4cd1-8f2b-6d6492b69813
X-WR-CALDESC:The process of designing and building public works in New York
  City impacts New Yorkers throughout their life cycle: not only when they 
 are complete\, but also during planning\, design\, and construction. The N
 YC Capital Process Reform Task Force includes industry experts and agency 
 leaders working together to address every phase of the delivery process\, 
 from planning and procurement to construction and closeout. \n\nThis progr
 am will explain NYC’s capital process reform initiatives\, in dialogue wit
 h city officials\, architects\, and industry professionals committed to de
 signing and building better public projects. Many of these changes are at 
 the city level\, but the most impactful require state legislation. In this
  event\, there will be a deep dive into the modernization efforts at each 
 phase of work as well as how these initiatives can reduce barriers for ent
 ry within the design and construction industry.
X-WR-RELCALID:2811aefd074d4e4672e1f512a7b1b797
X-WR-TIMEZONE:America/New_York
BEGIN:VTIMEZONE
TZID:America/New_York
BEGIN:STANDARD
TZNAME:EST
DTSTART:20231105T020000
TZOFFSETFROM:-0400
TZOFFSETTO:-0500
RDATE:20241103T020000
RDATE:20251102T020000
END:STANDARD
BEGIN:DAYLIGHT
TZNAME:EDT
DTSTART:20240310T020000
TZOFFSETFROM:-0500
TZOFFSETTO:-0400
RDATE:20250309T020000
RDATE:20260308T020000
END:DAYLIGHT
END:VTIMEZONE
BEGIN:VEVENT
UID:86071e67-64e4-4cdd-8339-9bc8e5c03fa5
DTSTAMP:20260422T194224Z
DESCRIPTION:The process of designing and building public works in New York 
 City impacts New Yorkers throughout their life cycle: not only when they a
 re complete\, but also during planning\, design\, and construction. The NY
 C Capital Process Reform Task Force includes industry experts and agency l
 eaders working together to address every phase of the delivery process\, f
 rom planning and procurement to construction and closeout. \n\nThis progra
 m will explain NYC’s capital process reform initiatives\, in dialogue with
  city officials\, architects\, and industry professionals committed to des
 igning and building better public projects. Many of these changes are at t
 he city level\, but the most impactful require state legislation. In this 
 event\, there will be a deep dive into the modernization efforts at each p
 hase of work as well as how these initiatives can reduce barriers for entr
 y within the design and construction industry.
DTSTART;TZID=America/New_York:20241007T090000
DTEND;TZID=America/New_York:20241007T120000
LOCATION:
SUMMARY:Build Better NYC: How Capital Process Reform Improves Public Infras
 tructure
END:VEVENT
END:VCALENDAR
