BEGIN:VCALENDAR
VERSION:2.0
PRODID:-//3qinnovation.org//NONSGML kigkonsult.se iCalcreator 2.30.10//
CALSCALE:GREGORIAN
METHOD:PUBLISH
UID:4d8b3c6d-83cb-4a67-9839-9931dd85205e
X-WR-CALDESC:Come witness one of the most remarkable land reclamation proje
 cts in history!  Join AIANY guide Arthur Platt on an extended tour to Stat
 en Island's Freshkills Park.  This tour offers a limited 'backstage pass' 
 to experience the transformation of the region's former largest garbage la
 ndfill into today's park. The cruise will enter a network of tidal kills (
 or streams) to explore the unprecedented land reclamation project\, nearly
  three times the size of Central Park. \n\nNYC Parks and AIANY guides will
  provide insightful narration about cutting-edge landscape architecture an
 d engineering\, urban planning\, and the industrial architecture and infra
 structure of Staten Island's northwest shore. This tour is operated in par
 tnership with Classic Harbor Line.\n
X-WR-RELCALID:8d0e9bc0e97487a53bcc687445cfdd28
X-WR-TIMEZONE:America/New_York
BEGIN:VTIMEZONE
TZID:America/New_York
BEGIN:STANDARD
TZNAME:EST
DTSTART:20231105T020000
TZOFFSETFROM:-0400
TZOFFSETTO:-0500
RDATE:20241103T020000
RDATE:20251102T020000
END:STANDARD
BEGIN:DAYLIGHT
TZNAME:EDT
DTSTART:20240310T020000
TZOFFSETFROM:-0500
TZOFFSETTO:-0400
RDATE:20250309T020000
RDATE:20260308T020000
END:DAYLIGHT
END:VTIMEZONE
BEGIN:VEVENT
UID:3c411fee-4035-460a-869e-f78ca0e47931
DTSTAMP:20260422T114912Z
DESCRIPTION:Come witness one of the most remarkable land reclamation projec
 ts in history!  Join AIANY guide Arthur Platt on an extended tour to State
 n Island's Freshkills Park.  This tour offers a limited 'backstage pass' t
 o experience the transformation of the region's former largest garbage lan
 dfill into today's park. The cruise will enter a network of tidal kills (o
 r streams) to explore the unprecedented land reclamation project\, nearly 
 three times the size of Central Park. \n\nNYC Parks and AIANY guides will 
 provide insightful narration about cutting-edge landscape architecture and
  engineering\, urban planning\, and the industrial architecture and infras
 tructure of Staten Island's northwest shore. This tour is operated in part
 nership with Classic Harbor Line.\n
DTSTART;TZID=America/New_York:20241006T093000
DTEND;TZID=America/New_York:20241006T130000
LOCATION:
SUMMARY:AIANY Industrial Waterway Tour: Freshkills Park in Staten Island
END:VEVENT
END:VCALENDAR
