BEGIN:VCALENDAR
VERSION:2.0
PRODID:-//3qinnovation.org//NONSGML kigkonsult.se iCalcreator 2.30.10//
CALSCALE:GREGORIAN
METHOD:PUBLISH
UID:76c60c22-d2ed-4839-a127-3cd5c6d5247e
X-WR-CALDESC:New to USGBC membership? A long-time member in need of a refre
 sher? Join USGBC on Welcome Wednesday each month for a brief presentation 
 on USGBC National membership followed by an opportunity for Q&A.
X-WR-RELCALID:bc9312b2916f46fda49a6fc1a4346495
X-WR-TIMEZONE:America/New_York
BEGIN:VTIMEZONE
TZID:America/New_York
BEGIN:STANDARD
TZNAME:EST
DTSTART:20231105T020000
TZOFFSETFROM:-0400
TZOFFSETTO:-0500
RDATE:20241103T020000
RDATE:20251102T020000
END:STANDARD
BEGIN:DAYLIGHT
TZNAME:EDT
DTSTART:20240310T020000
TZOFFSETFROM:-0500
TZOFFSETTO:-0400
RDATE:20250309T020000
RDATE:20260308T020000
END:DAYLIGHT
END:VTIMEZONE
BEGIN:VEVENT
UID:3b9181d2-5f08-4c94-990b-696317681032
DTSTAMP:20260422T114228Z
DESCRIPTION:New to USGBC membership? A long-time member in need of a refres
 her? Join USGBC on Welcome Wednesday each month for a brief presentation o
 n USGBC National membership followed by an opportunity for Q&A.
DTSTART;TZID=America/New_York:20241002T120000
DTEND;TZID=America/New_York:20241002T130000
LOCATION:
SUMMARY:Welcome Wednesdays: Intro to USGBC National Membership
END:VEVENT
END:VCALENDAR
