BEGIN:VCALENDAR
VERSION:2.0
PRODID:-//3qinnovation.org//NONSGML kigkonsult.se iCalcreator 2.30.10//
CALSCALE:GREGORIAN
METHOD:PUBLISH
UID:6216cf50-3fb5-4fe4-9d00-33d23d73b317
X-WR-CALDESC:Net Zero Buildings Week is a virtual event series that support
 s partnerships and collaboration across the built environment industry to 
 collectively advance net zero buildings. Climate leaders from across the c
 ountry are transforming the built environment to cut emissions and provide
  healthy\, safe\, resilient buildings for everyone. Join colleagues Septem
 ber 16–20 to learn about meaningful progress being made\, spark new ideas\
 , share resources\, and expand impact.
X-WR-RELCALID:48af92bc999dfacffc229e364653efed
X-WR-TIMEZONE:America/New_York
BEGIN:VTIMEZONE
TZID:America/New_York
BEGIN:STANDARD
TZNAME:EST
DTSTART:20231105T020000
TZOFFSETFROM:-0400
TZOFFSETTO:-0500
RDATE:20241103T020000
RDATE:20251102T020000
END:STANDARD
BEGIN:DAYLIGHT
TZNAME:EDT
DTSTART:20240310T020000
TZOFFSETFROM:-0500
TZOFFSETTO:-0400
RDATE:20250309T020000
RDATE:20260308T020000
END:DAYLIGHT
END:VTIMEZONE
BEGIN:VEVENT
UID:101ca335-70dd-4521-a595-9158ddfb8abe
DTSTAMP:20260422T132001Z
DESCRIPTION:Net Zero Buildings Week is a virtual event series that supports
  partnerships and collaboration across the built environment industry to c
 ollectively advance net zero buildings. Climate leaders from across the co
 untry are transforming the built environment to cut emissions and provide 
 healthy\, safe\, resilient buildings for everyone. Join colleagues Septemb
 er 16–20 to learn about meaningful progress being made\, spark new ideas\,
  share resources\, and expand impact.
DTSTART;TZID=America/New_York:20240916T090000
DTEND;TZID=America/New_York:20240916T170000
LOCATION:
SUMMARY:Net Zero Buildings Week
END:VEVENT
END:VCALENDAR
