BEGIN:VCALENDAR
VERSION:2.0
PRODID:-//3qinnovation.org//NONSGML kigkonsult.se iCalcreator 2.30.10//
CALSCALE:GREGORIAN
METHOD:PUBLISH
UID:db477797-bdec-48df-bd31-ea59929da09b
X-WR-CALDESC:Join NYC Mayor's Office of Climate & Environmental Justice for
  “Financing Case Studies: Navigating LL97 with Proven Financing Solutions”
  - hosted by NYC Accelerator. This event will highlight various financing 
 options available for buildings looking to implement energy efficiency upg
 rades and clean energy projects. The focus will be on helping building own
 ers and stakeholders in New York City take advantage of financing options 
 to navigate Local Law 97 (LL97) compliance and reduce carbon emissions.
X-WR-RELCALID:a96f6f1615f584273287fbb64f9de4b4
X-WR-TIMEZONE:America/New_York
BEGIN:VTIMEZONE
TZID:America/New_York
BEGIN:STANDARD
TZNAME:EST
DTSTART:20231105T020000
TZOFFSETFROM:-0400
TZOFFSETTO:-0500
RDATE:20241103T020000
RDATE:20251102T020000
END:STANDARD
BEGIN:DAYLIGHT
TZNAME:EDT
DTSTART:20240310T020000
TZOFFSETFROM:-0500
TZOFFSETTO:-0400
RDATE:20250309T020000
RDATE:20260308T020000
END:DAYLIGHT
END:VTIMEZONE
BEGIN:VEVENT
UID:01bc03b9-1dd9-4774-97cc-93ba0c7c32cc
DTSTAMP:20260422T131904Z
DESCRIPTION:Join NYC Mayor's Office of Climate & Environmental Justice for 
 “Financing Case Studies: Navigating LL97 with Proven Financing Solutions” 
 - hosted by NYC Accelerator. This event will highlight various financing o
 ptions available for buildings looking to implement energy efficiency upgr
 ades and clean energy projects. The focus will be on helping building owne
 rs and stakeholders in New York City take advantage of financing options t
 o navigate Local Law 97 (LL97) compliance and reduce carbon emissions.
DTSTART;TZID=America/New_York:20240912T140000
DTEND;TZID=America/New_York:20240912T153000
LOCATION:
SUMMARY:Financing Case Studies: Navigating LL97 with Proven Financing Solut
 ions
END:VEVENT
END:VCALENDAR
