BEGIN:VCALENDAR
VERSION:2.0
PRODID:-//3qinnovation.org//NONSGML kigkonsult.se iCalcreator 2.30.10//
CALSCALE:GREGORIAN
METHOD:PUBLISH
UID:42ed4f95-c2a3-41e3-b241-bd82c6ac3344
X-WR-CALDESC:The U.S. has seen a 50% increase in green jobs since 2019\, an
 d the Inflation Reduction Act is anticipated to create an average of 912\,
 000 jobs per year over the next decade. At the same time\, many companies 
 are facing unprecedented challenges trying to find enough workers to fill 
 open jobs.  \n\nJoin the USGBC at their next U.S. Market Insight Summit (S
 eptember 3-5\, 2024) to learn about the latest policies\, challenges\, opp
 ortunities\, and successes related to Workforce Development in Green Build
 ing.
X-WR-RELCALID:f7804a25a3811d202b065759a647c076
X-WR-TIMEZONE:America/New_York
BEGIN:VTIMEZONE
TZID:America/New_York
BEGIN:STANDARD
TZNAME:EST
DTSTART:20231105T020000
TZOFFSETFROM:-0400
TZOFFSETTO:-0500
RDATE:20241103T020000
RDATE:20251102T020000
END:STANDARD
BEGIN:DAYLIGHT
TZNAME:EDT
DTSTART:20240310T020000
TZOFFSETFROM:-0500
TZOFFSETTO:-0400
RDATE:20250309T020000
END:DAYLIGHT
END:VTIMEZONE
BEGIN:VEVENT
UID:ae80edb8-a8f4-47e5-b92b-192d1289c374
DTSTAMP:20260422T134133Z
DESCRIPTION:The U.S. has seen a 50% increase in green jobs since 2019\, and
  the Inflation Reduction Act is anticipated to create an average of 912\,0
 00 jobs per year over the next decade. At the same time\, many companies a
 re facing unprecedented challenges trying to find enough workers to fill o
 pen jobs.  \n\nJoin the USGBC at their next U.S. Market Insight Summit (Se
 ptember 3-5\, 2024) to learn about the latest policies\, challenges\, oppo
 rtunities\, and successes related to Workforce Development in Green Buildi
 ng.
DTSTART;TZID=America/New_York:20240904T120000
DTEND;TZID=America/New_York:20240904T163000
LOCATION:
SUMMARY:Workforce Dev in Green Building - Next Wave Opportunities
END:VEVENT
END:VCALENDAR
