BEGIN:VCALENDAR
VERSION:2.0
PRODID:-//3qinnovation.org//NONSGML kigkonsult.se iCalcreator 2.30.10//
CALSCALE:GREGORIAN
METHOD:PUBLISH
UID:9b86ac1a-3cb5-47db-b399-56692eac0616
X-WR-CALDESC:Kids are the experts in this program focusing on the design of
  parks and playgrounds. The class will visit several unique parks and play
 grounds in the city to assess their design features by playing (of course!
 ) and conducting on-site analysis through surveys\, drawings\, and user in
 terviews. Students will explore and design different types of play spaces\
 , culminating in a model of their own ideal park or playground.
X-WR-RELCALID:7c886d98f3404cfb5b2e7b02f05634f9
X-WR-TIMEZONE:America/New_York
BEGIN:VTIMEZONE
TZID:America/New_York
BEGIN:STANDARD
TZNAME:EST
DTSTART:20231105T020000
TZOFFSETFROM:-0400
TZOFFSETTO:-0500
RDATE:20241103T020000
RDATE:20251102T020000
END:STANDARD
BEGIN:DAYLIGHT
TZNAME:EDT
DTSTART:20240310T020000
TZOFFSETFROM:-0500
TZOFFSETTO:-0400
RDATE:20250309T020000
END:DAYLIGHT
END:VTIMEZONE
BEGIN:VEVENT
UID:73d4ee3a-6b89-430b-b928-588acbd5b251
DTSTAMP:20260422T152834Z
DESCRIPTION:Kids are the experts in this program focusing on the design of 
 parks and playgrounds. The class will visit several unique parks and playg
 rounds in the city to assess their design features by playing (of course!)
  and conducting on-site analysis through surveys\, drawings\, and user int
 erviews. Students will explore and design different types of play spaces\,
  culminating in a model of their own ideal park or playground.
DTSTART;TZID=America/New_York:20240809T090000
DTEND;TZID=America/New_York:20240809T160000
LOCATION:
SUMMARY:Summer Program: Parks and Playgrounds (Grades 3-5)
END:VEVENT
END:VCALENDAR
