BEGIN:VCALENDAR
VERSION:2.0
PRODID:-//3qinnovation.org//NONSGML kigkonsult.se iCalcreator 2.30.10//
CALSCALE:GREGORIAN
METHOD:PUBLISH
UID:8c748144-bc49-4072-abe5-9ce7dc9197ec
X-WR-CALDESC:This class will explore past\, present\, and future designs fo
 r cities built on or around water\, including New York City. Working colla
 boratively\, students will create a design for a waterfront city\, incorpo
 rating ideas about architecture\, transportation\, and recreation. Each st
 udent’s piece of the city will come together at the end of the week to cre
 ate a collective vision of a sustainable waterfront city.
X-WR-RELCALID:fefae2ecbab74919c157422053149c76
X-WR-TIMEZONE:America/New_York
BEGIN:VTIMEZONE
TZID:America/New_York
BEGIN:STANDARD
TZNAME:EST
DTSTART:20231105T020000
TZOFFSETFROM:-0400
TZOFFSETTO:-0500
RDATE:20241103T020000
RDATE:20251102T020000
END:STANDARD
BEGIN:DAYLIGHT
TZNAME:EDT
DTSTART:20240310T020000
TZOFFSETFROM:-0500
TZOFFSETTO:-0400
RDATE:20250309T020000
END:DAYLIGHT
END:VTIMEZONE
BEGIN:VEVENT
UID:c4953063-6540-447e-a4e3-2ae90a57dc31
DTSTAMP:20260422T170017Z
DESCRIPTION:This class will explore past\, present\, and future designs for
  cities built on or around water\, including New York City. Working collab
 oratively\, students will create a design for a waterfront city\, incorpor
 ating ideas about architecture\, transportation\, and recreation. Each stu
 dent’s piece of the city will come together at the end of the week to crea
 te a collective vision of a sustainable waterfront city.
DTSTART;TZID=America/New_York:20240725T090000
DTEND;TZID=America/New_York:20240725T160000
LOCATION:
SUMMARY:Summer Program: Waterfront City (Grades 6-8)
END:VEVENT
END:VCALENDAR
