BEGIN:VCALENDAR
VERSION:2.0
PRODID:-//3qinnovation.org//NONSGML kigkonsult.se iCalcreator 2.30.10//
CALSCALE:GREGORIAN
METHOD:PUBLISH
UID:7908ef9b-0afe-4cbb-ab52-edee252a4c2b
X-WR-CALDESC:Museums now cover more subjects than ever before\, from histor
 y and art\, to animals\, and ice cream. This program will visit some of th
 e best museums New York City has to offer and also look at examples of mus
 eums around the world. Students will consider how design helps visitors le
 arn and engage their imagination to create a museum that showcases a colle
 ction of objects they love.
X-WR-RELCALID:cef7ee387ef99cc68338b0b64ccad388
X-WR-TIMEZONE:America/New_York
BEGIN:VTIMEZONE
TZID:America/New_York
BEGIN:STANDARD
TZNAME:EST
DTSTART:20231105T020000
TZOFFSETFROM:-0400
TZOFFSETTO:-0500
RDATE:20241103T020000
RDATE:20251102T020000
END:STANDARD
BEGIN:DAYLIGHT
TZNAME:EDT
DTSTART:20240310T020000
TZOFFSETFROM:-0500
TZOFFSETTO:-0400
RDATE:20250309T020000
END:DAYLIGHT
END:VTIMEZONE
BEGIN:VEVENT
UID:46d35fc4-350c-4479-be70-aff1627b1f4a
DTSTAMP:20260422T164725Z
DESCRIPTION:Museums now cover more subjects than ever before\, from history
  and art\, to animals\, and ice cream. This program will visit some of the
  best museums New York City has to offer and also look at examples of muse
 ums around the world. Students will consider how design helps visitors lea
 rn and engage their imagination to create a museum that showcases a collec
 tion of objects they love.
DTSTART;TZID=America/New_York:20240725T090000
DTEND;TZID=America/New_York:20240725T160000
LOCATION:
SUMMARY:Summer Program: Museum Architecture (Grades 3-5)
END:VEVENT
END:VCALENDAR
