BEGIN:VCALENDAR
VERSION:2.0
PRODID:-//3qinnovation.org//NONSGML kigkonsult.se iCalcreator 2.30.10//
CALSCALE:GREGORIAN
METHOD:PUBLISH
UID:80928ead-3907-4a8a-8394-b7da7e40cd02
X-WR-CALDESC:Join the Urban Green Emerging Professionals Committee for a wa
 lking tour of Hunter’s Point Parks Conservatory (HPPC). HPPC was created i
 n 2013 with a mission to enhance and advocate for the green spaces and wat
 erfront of Long Island City\, Queens\, and to ensure the parks remain an i
 ndispensable asset to the community. HPPC’s commitment to sustainability i
 s exemplified through several notable efforts\, among which its prioritiza
 tion of native plantings in landscaping\, as well as the preservation of w
 ildlife habitat.
X-WR-RELCALID:08043a7b842c55ecce84c6cd9864a5a4
X-WR-TIMEZONE:America/New_York
BEGIN:VTIMEZONE
TZID:America/New_York
BEGIN:STANDARD
TZNAME:EST
DTSTART:20231105T020000
TZOFFSETFROM:-0400
TZOFFSETTO:-0500
RDATE:20241103T020000
RDATE:20251102T020000
END:STANDARD
BEGIN:DAYLIGHT
TZNAME:EDT
DTSTART:20240310T020000
TZOFFSETFROM:-0500
TZOFFSETTO:-0400
RDATE:20250309T020000
END:DAYLIGHT
END:VTIMEZONE
BEGIN:VEVENT
UID:979b2e33-b797-4242-9949-7013dedac062
DTSTAMP:20260422T170204Z
DESCRIPTION:Join the Urban Green Emerging Professionals Committee for a wal
 king tour of Hunter’s Point Parks Conservatory (HPPC). HPPC was created in
  2013 with a mission to enhance and advocate for the green spaces and wate
 rfront of Long Island City\, Queens\, and to ensure the parks remain an in
 dispensable asset to the community. HPPC’s commitment to sustainability is
  exemplified through several notable efforts\, among which its prioritizat
 ion of native plantings in landscaping\, as well as the preservation of wi
 ldlife habitat.
DTSTART;TZID=America/New_York:20240725T180000
DTEND;TZID=America/New_York:20240725T193000
LOCATION:
SUMMARY:EP Hunter’s Point Park Tour
END:VEVENT
END:VCALENDAR
