BEGIN:VCALENDAR
VERSION:2.0
PRODID:-//3qinnovation.org//NONSGML kigkonsult.se iCalcreator 2.30.10//
CALSCALE:GREGORIAN
METHOD:PUBLISH
UID:3b87f3f2-7203-4330-88b3-a36109321b81
X-WR-CALDESC:Staten Island—NYC’s least populous borough and the only one no
 t connected by subway—has long stood apart from the rest of New York City.
  The island’s geography and history shaped its 1930s redline maps in respo
 nse to environmental degradation from industrial proximity driving neighbo
 rhood classification reinforcing racial segregation. \n\nThis Staten Islan
 d-focused roundtable\, part of the 'Legacies of Redlining: Preservation an
 d Development' series\, will highlight local voices and case studies to pr
 ovide historical and cultural context and discuss present-day preservation
  and development initiatives with particular consideration for environment
 al justice awareness and next-generation narratives of community identity.
X-WR-RELCALID:a9207c2fd38f81804cac5e2632625f37
X-WR-TIMEZONE:America/New_York
BEGIN:VTIMEZONE
TZID:America/New_York
BEGIN:STANDARD
TZNAME:EST
DTSTART:20231105T020000
TZOFFSETFROM:-0400
TZOFFSETTO:-0500
RDATE:20241103T020000
RDATE:20251102T020000
END:STANDARD
BEGIN:DAYLIGHT
TZNAME:EDT
DTSTART:20240310T020000
TZOFFSETFROM:-0500
TZOFFSETTO:-0400
RDATE:20250309T020000
END:DAYLIGHT
END:VTIMEZONE
BEGIN:VEVENT
UID:c396fa85-d330-482a-b226-77180fe7ba60
DTSTAMP:20260422T170501Z
DESCRIPTION:Staten Island—NYC’s least populous borough and the only one not
  connected by subway—has long stood apart from the rest of New York City. 
 The island’s geography and history shaped its 1930s redline maps in respon
 se to environmental degradation from industrial proximity driving neighbor
 hood classification reinforcing racial segregation. \n\nThis Staten Island
 -focused roundtable\, part of the 'Legacies of Redlining: Preservation and
  Development' series\, will highlight local voices and case studies to pro
 vide historical and cultural context and discuss present-day preservation 
 and development initiatives with particular consideration for environmenta
 l justice awareness and next-generation narratives of community identity.
DTSTART;TZID=America/New_York:20240716T180000
DTEND;TZID=America/New_York:20240716T200000
LOCATION:
SUMMARY:Legacies of Redlining: Preservation and Development in Staten Islan
 d
END:VEVENT
END:VCALENDAR
