BEGIN:VCALENDAR
VERSION:2.0
PRODID:-//3qinnovation.org//NONSGML kigkonsult.se iCalcreator 2.30.10//
CALSCALE:GREGORIAN
METHOD:PUBLISH
UID:88e534e9-87f6-4cf0-8d28-422d471eed6c
X-WR-CALDESC:New York City is home to over 300 miles of greenways consistin
 g of a patchwork of bikeways\, pedestrian paths\, and trails. Join the AIA
 NY Transportation and Infrastructure Committee to discuss navigating the c
 omplexities of fostering\, designing\, building\, and maintaining greenway
 s in NYC. (Some of these are still in the planning stages\, others in vari
 ed states of repair or disrepair\, with each segment operated and maintain
 ed by separate organizations.)\n\nIn 2022\, the City initiated a masterpla
 n process to create a unified city-wide greenway network prioritizing neig
 hborhoods that historically have been underserved by connected open space.
  Planning and design for the East River Esplanade in East Harlem and the H
 arlem River Greenway in the Bronx provide examples of current approaches t
 o upgrading and expanding NYC’s greenway network.\n\nJoin the discussion a
 s we explore the opportunities for a unified network that spans all five b
 oroughs\, driven by a shared vision of design quality\, sustainability\, i
 nclusivity\, accessibility\, and equity for every New Yorker.
X-WR-RELCALID:5a15c07b45708d204f63467cbc3eafb9
X-WR-TIMEZONE:America/New_York
BEGIN:VTIMEZONE
TZID:America/New_York
BEGIN:STANDARD
TZNAME:EST
DTSTART:20231105T020000
TZOFFSETFROM:-0400
TZOFFSETTO:-0500
RDATE:20241103T020000
RDATE:20251102T020000
END:STANDARD
BEGIN:DAYLIGHT
TZNAME:EDT
DTSTART:20240310T020000
TZOFFSETFROM:-0500
TZOFFSETTO:-0400
RDATE:20250309T020000
END:DAYLIGHT
END:VTIMEZONE
BEGIN:VEVENT
UID:48b5775b-e196-4458-895b-19f5e1add174
DTSTAMP:20260422T183948Z
DESCRIPTION:New York City is home to over 300 miles of greenways consisting
  of a patchwork of bikeways\, pedestrian paths\, and trails. Join the AIAN
 Y Transportation and Infrastructure Committee to discuss navigating the co
 mplexities of fostering\, designing\, building\, and maintaining greenways
  in NYC. (Some of these are still in the planning stages\, others in varie
 d states of repair or disrepair\, with each segment operated and maintaine
 d by separate organizations.)\n\nIn 2022\, the City initiated a masterplan
  process to create a unified city-wide greenway network prioritizing neigh
 borhoods that historically have been underserved by connected open space. 
 Planning and design for the East River Esplanade in East Harlem and the Ha
 rlem River Greenway in the Bronx provide examples of current approaches to
  upgrading and expanding NYC’s greenway network.\n\nJoin the discussion as
  we explore the opportunities for a unified network that spans all five bo
 roughs\, driven by a shared vision of design quality\, sustainability\, in
 clusivity\, accessibility\, and equity for every New Yorker.
DTSTART;TZID=America/New_York:20240624T180000
DTEND;TZID=America/New_York:20240624T193000
LOCATION:
SUMMARY:NYC Greenways: Paths to an Equitable City-Wide Network
END:VEVENT
END:VCALENDAR
