BEGIN:VCALENDAR
VERSION:2.0
PRODID:-//3qinnovation.org//NONSGML kigkonsult.se iCalcreator 2.30.10//
CALSCALE:GREGORIAN
METHOD:PUBLISH
UID:1a5a3c3f-bfa2-47a3-a254-50c8ebb48c02
X-WR-CALDESC:This walking tour will explore Battery Park City’s southern di
 strict\, which is home to the Skyscraper Museum and includes some of BPC’s
  earliest landscapes and infrastructure\, including the residential enclav
 es built in the 1990s that followed the 1979 Cooper Eckstut Master Plan. S
 tarting in the Skyscraper Museum’s gallery to see historic views of the wa
 terfront\, the tour will visit South Cove and the green spaces that connec
 t to the Esplanade\, the first waterfront park in New York since the Brook
 lyn Heights Esplanade in 1951. We will also learn about current constructi
 on underway in Wagner Park\, as part of the developing Resilience Action P
 lan of the BPC Authority.\n\nThis free tour will meet at The Skyscraper Mu
 seum\, 39 Battery Pl. Registration is limited to 25 people. Reservation pr
 iority is given to Skyscraper Museum Members and to Corporate Members and 
 their employees. Members can register by emailing programs@skyscraper.org.
X-WR-RELCALID:92e5c76ba15559876146447225abfdec
X-WR-TIMEZONE:America/New_York
BEGIN:VTIMEZONE
TZID:America/New_York
BEGIN:STANDARD
TZNAME:EST
DTSTART:20231105T020000
TZOFFSETFROM:-0400
TZOFFSETTO:-0500
RDATE:20241103T020000
RDATE:20251102T020000
END:STANDARD
BEGIN:DAYLIGHT
TZNAME:EDT
DTSTART:20240310T020000
TZOFFSETFROM:-0500
TZOFFSETTO:-0400
RDATE:20250309T020000
END:DAYLIGHT
END:VTIMEZONE
BEGIN:VEVENT
UID:0a85cec5-df33-403c-803b-cc7e4ab1a029
DTSTAMP:20260422T184025Z
DESCRIPTION:This walking tour will explore Battery Park City’s southern dis
 trict\, which is home to the Skyscraper Museum and includes some of BPC’s 
 earliest landscapes and infrastructure\, including the residential enclave
 s built in the 1990s that followed the 1979 Cooper Eckstut Master Plan. St
 arting in the Skyscraper Museum’s gallery to see historic views of the wat
 erfront\, the tour will visit South Cove and the green spaces that connect
  to the Esplanade\, the first waterfront park in New York since the Brookl
 yn Heights Esplanade in 1951. We will also learn about current constructio
 n underway in Wagner Park\, as part of the developing Resilience Action Pl
 an of the BPC Authority.\n\nThis free tour will meet at The Skyscraper Mus
 eum\, 39 Battery Pl. Registration is limited to 25 people. Reservation pri
 ority is given to Skyscraper Museum Members and to Corporate Members and t
 heir employees. Members can register by emailing programs@skyscraper.org.
DTSTART;TZID=America/New_York:20240621T160000
DTEND;TZID=America/New_York:20240621T180000
LOCATION:
SUMMARY:Walking Tour: Battery Park City South Neighborhood
END:VEVENT
END:VCALENDAR
