BEGIN:VCALENDAR
VERSION:2.0
PRODID:-//3qinnovation.org//NONSGML kigkonsult.se iCalcreator 2.30.10//
CALSCALE:GREGORIAN
METHOD:PUBLISH
UID:2bc0d4c7-f258-401b-a264-d9569debec8c
X-WR-CALDESC:New York's biggest co-op\, condo & apartment expo\, 'WHERE BUI
 LDINGS MEET SERVICES'\, is taking place for one day only on June 18th at t
 he New York Hilton Midtown (53rd and 6th Ave).\n\nAttendees can expect to 
 learn about the latest in building services from 250 exhibitors and inform
 ative seminars\, receive free advice from industry experts\, and network w
 ith other property managers & board members.
X-WR-RELCALID:7c225762e14118520e5b54a28a7aa51e
X-WR-TIMEZONE:America/New_York
BEGIN:VTIMEZONE
TZID:America/New_York
BEGIN:STANDARD
TZNAME:EST
DTSTART:20231105T020000
TZOFFSETFROM:-0400
TZOFFSETTO:-0500
RDATE:20241103T020000
RDATE:20251102T020000
END:STANDARD
BEGIN:DAYLIGHT
TZNAME:EDT
DTSTART:20240310T020000
TZOFFSETFROM:-0500
TZOFFSETTO:-0400
RDATE:20250309T020000
END:DAYLIGHT
END:VTIMEZONE
BEGIN:VEVENT
UID:094c9bfc-7b95-4381-894c-d05000d25473
DTSTAMP:20260422T183820Z
DESCRIPTION:New York's biggest co-op\, condo & apartment expo\, 'WHERE BUIL
 DINGS MEET SERVICES'\, is taking place for one day only on June 18th at th
 e New York Hilton Midtown (53rd and 6th Ave).\n\nAttendees can expect to l
 earn about the latest in building services from 250 exhibitors and informa
 tive seminars\, receive free advice from industry experts\, and network wi
 th other property managers & board members.
DTSTART;TZID=America/New_York:20240618T060000
DTEND;TZID=America/New_York:20240618T060001
LOCATION:
SUMMARY:The Cooperator Expo New York
END:VEVENT
END:VCALENDAR
