BEGIN:VCALENDAR
VERSION:2.0
PRODID:-//3qinnovation.org//NONSGML kigkonsult.se iCalcreator 2.30.10//
CALSCALE:GREGORIAN
METHOD:PUBLISH
UID:2a2f9d0c-a8bf-437a-83f5-bd9509fd8298
X-WR-CALDESC:Despite substantial efforts by the public and private sectors 
 and increasing investments in technology\, the United States is not on tra
 ck to meet its commitments under the Paris Climate Agreement. What policie
 s\, private actions\, and leadership are needed to drive further reduction
 s in U.S. greenhouse gas emissions?\n\nThe second annual Harvard Climate A
 ction Week\, hosted by the Climate Action Accelerator at the Salata Instit
 ute for Climate and Sustainability at Harvard University\, will encompass 
 five days of events specifically engaging this question. \n\nJune 10-11\, 
 experts from academia\, policymakers\, entrepreneurs\, and civil society w
 ill discuss what steps are politically viable\, economically desirable\, a
 ble to scale widely\, and durable for the short-\, medium-\, and long-term
 . June 12-14 sessions will dive deeper into solutions-oriented research.
X-WR-RELCALID:0c3394a994952e6dbe5e4214f1774aa4
X-WR-TIMEZONE:America/New_York
BEGIN:VTIMEZONE
TZID:America/New_York
BEGIN:STANDARD
TZNAME:EST
DTSTART:20231105T020000
TZOFFSETFROM:-0400
TZOFFSETTO:-0500
RDATE:20241103T020000
RDATE:20251102T020000
END:STANDARD
BEGIN:DAYLIGHT
TZNAME:EDT
DTSTART:20240310T020000
TZOFFSETFROM:-0500
TZOFFSETTO:-0400
RDATE:20250309T020000
END:DAYLIGHT
END:VTIMEZONE
BEGIN:VEVENT
UID:c26a4695-f8ee-4243-b22e-c70f39907dba
DTSTAMP:20260422T183225Z
DESCRIPTION:Despite substantial efforts by the public and private sectors a
 nd increasing investments in technology\, the United States is not on trac
 k to meet its commitments under the Paris Climate Agreement. What policies
 \, private actions\, and leadership are needed to drive further reductions
  in U.S. greenhouse gas emissions?\n\nThe second annual Harvard Climate Ac
 tion Week\, hosted by the Climate Action Accelerator at the Salata Institu
 te for Climate and Sustainability at Harvard University\, will encompass f
 ive days of events specifically engaging this question. \n\nJune 10-11\, e
 xperts from academia\, policymakers\, entrepreneurs\, and civil society wi
 ll discuss what steps are politically viable\, economically desirable\, ab
 le to scale widely\, and durable for the short-\, medium-\, and long-term.
  June 12-14 sessions will dive deeper into solutions-oriented research.
DTSTART;TZID=America/New_York:20240613T060000
DTEND;TZID=America/New_York:20240613T060001
LOCATION:
SUMMARY:Harvard Climate Action Week
END:VEVENT
END:VCALENDAR
