BEGIN:VCALENDAR
VERSION:2.0
PRODID:-//3qinnovation.org//NONSGML kigkonsult.se iCalcreator 2.30.10//
CALSCALE:GREGORIAN
METHOD:PUBLISH
UID:e9329bde-afe2-4485-aa1b-4f5cb6272823
X-WR-CALDESC:To reduce carbon emissions to net zero\, New York City must co
 ntinue to undergo major changes. But what will these changes be? And what 
 trends will shape the city of 2050?\n\nAt the 2024 Urban Green Conference 
 'NYC Next'\, experts will explain three key trends shaping the City in pan
 el discussion formats: \n1) How artificial intelligence will affect constr
 uction (in Session 1 • AI in Construction: Disruption or Dud?)\n2) Growth 
 of heat pump water heaters (in Session 2 • Turning Up the Heat (Pumps) on 
 Hot Water)\n3 Tangible solutions for cutting embodied carbon (in Session 3
  • Embodied Carbon is Here to Stay)\n\nJoin Urban Green as they discuss th
 ese issues with individuals who have an inside look at these trends and ar
 e doing the work to decarbonize buildings.
X-WR-RELCALID:b7c1889d2703486661df91a2439b9cf6
X-WR-TIMEZONE:America/New_York
BEGIN:VTIMEZONE
TZID:America/New_York
BEGIN:STANDARD
TZNAME:EST
DTSTART:20231105T020000
TZOFFSETFROM:-0400
TZOFFSETTO:-0500
RDATE:20241103T020000
RDATE:20251102T020000
END:STANDARD
BEGIN:DAYLIGHT
TZNAME:EDT
DTSTART:20240310T020000
TZOFFSETFROM:-0500
TZOFFSETTO:-0400
RDATE:20250309T020000
END:DAYLIGHT
END:VTIMEZONE
BEGIN:VEVENT
UID:fb4cca06-7711-4688-94e2-8141c6818142
DTSTAMP:20260422T183909Z
DESCRIPTION:To reduce carbon emissions to net zero\, New York City must con
 tinue to undergo major changes. But what will these changes be? And what t
 rends will shape the city of 2050?\n\nAt the 2024 Urban Green Conference '
 NYC Next'\, experts will explain three key trends shaping the City in pane
 l discussion formats: \n1) How artificial intelligence will affect constru
 ction (in Session 1 • AI in Construction: Disruption or Dud?)\n2) Growth o
 f heat pump water heaters (in Session 2 • Turning Up the Heat (Pumps) on H
 ot Water)\n3 Tangible solutions for cutting embodied carbon (in Session 3 
 • Embodied Carbon is Here to Stay)\n\nJoin Urban Green as they discuss the
 se issues with individuals who have an inside look at these trends and are
  doing the work to decarbonize buildings.
DTSTART;TZID=America/New_York:20240603T130000
DTEND;TZID=America/New_York:20240603T170000
LOCATION:
SUMMARY:Urban Green Conference: NYC Next
END:VEVENT
END:VCALENDAR
