BEGIN:VCALENDAR
VERSION:2.0
PRODID:-//3qinnovation.org//NONSGML kigkonsult.se iCalcreator 2.30.10//
CALSCALE:GREGORIAN
METHOD:PUBLISH
UID:01416e1e-15fb-45a2-a29e-accc2471282b
X-WR-CALDESC:This Urban Green Council course teaches building and design pr
 ofessionals in New York State how to properly prove projects comply with t
 he 2020 Energy Conservation Construction Code of New York State (ECCCNYS).
  \n\nThis 2-hour live (virtual) training will cover topics related to both
  the Commercial and Residential energy code for New York State.
X-WR-RELCALID:9d39a17d0edc4416b872be4f4df54a2c
X-WR-TIMEZONE:America/New_York
BEGIN:VTIMEZONE
TZID:America/New_York
BEGIN:STANDARD
TZNAME:EST
DTSTART:20231105T020000
TZOFFSETFROM:-0400
TZOFFSETTO:-0500
RDATE:20241103T020000
RDATE:20251102T020000
END:STANDARD
BEGIN:DAYLIGHT
TZNAME:EDT
DTSTART:20240310T020000
TZOFFSETFROM:-0500
TZOFFSETTO:-0400
RDATE:20250309T020000
END:DAYLIGHT
END:VTIMEZONE
BEGIN:VEVENT
UID:e72233bc-7463-461d-9e66-e3430393476b
DTSTAMP:20260422T201556Z
DESCRIPTION:This Urban Green Council course teaches building and design pro
 fessionals in New York State how to properly prove projects comply with th
 e 2020 Energy Conservation Construction Code of New York State (ECCCNYS). 
 \n\nThis 2-hour live (virtual) training will cover topics related to both 
 the Commercial and Residential energy code for New York State.
DTSTART;TZID=America/New_York:20240522T120000
DTEND;TZID=America/New_York:20240522T140000
LOCATION:
SUMMARY:Crushing the Code NYS: Demonstrate Compliance
END:VEVENT
END:VCALENDAR
