BEGIN:VCALENDAR
VERSION:2.0
PRODID:-//3qinnovation.org//NONSGML kigkonsult.se iCalcreator 2.30.10//
CALSCALE:GREGORIAN
METHOD:PUBLISH
UID:65808806-6a31-4c75-8644-eeb97ef4fb84
X-WR-CALDESC:Crushing the Code NYC: Residential is an Urban Green Council c
 ourse that prepares building and design professionals working on projects 
 in New York City to: 1) understand and comply with the many requirements i
 n the 2020 NYC Energy Conservation Code (NYCECC) and 2) by understanding N
 YCECC compliance requirements\, design more energy-efficient buildings.  
 \n\nIn an era of more stringent code enforcement\, and upcoming NYC carbon
  emission limits\, this course will also provide critical knowledge about 
 significant changes\, new provisions\, and best practices that will help p
 rofessionals avoid NYCECC compliance-related objections and/or delays that
  impact project timelines.
X-WR-RELCALID:4a2b8df0b0d648249d0bc06ee80f7320
X-WR-TIMEZONE:America/New_York
BEGIN:VTIMEZONE
TZID:America/New_York
BEGIN:STANDARD
TZNAME:EST
DTSTART:20231105T020000
TZOFFSETFROM:-0400
TZOFFSETTO:-0500
RDATE:20241103T020000
END:STANDARD
BEGIN:DAYLIGHT
TZNAME:EDT
DTSTART:20240310T020000
TZOFFSETFROM:-0500
TZOFFSETTO:-0400
RDATE:20250309T020000
END:DAYLIGHT
END:VTIMEZONE
BEGIN:VEVENT
UID:7d8601c8-40f8-4647-8a0f-db84f51d9e3c
DTSTAMP:20260422T215458Z
DESCRIPTION:Crushing the Code NYC: Residential is an Urban Green Council co
 urse that prepares building and design professionals working on projects i
 n New York City to: 1) understand and comply with the many requirements in
  the 2020 NYC Energy Conservation Code (NYCECC) and 2) by understanding NY
 CECC compliance requirements\, design more energy-efficient buildings.  \n
 \nIn an era of more stringent code enforcement\, and upcoming NYC carbon e
 mission limits\, this course will also provide critical knowledge about si
 gnificant changes\, new provisions\, and best practices that will help pro
 fessionals avoid NYCECC compliance-related objections and/or delays that i
 mpact project timelines.
DTSTART;TZID=America/New_York:20240423T090000
DTEND;TZID=America/New_York:20240423T170000
LOCATION:
SUMMARY:Crushing the Code NY City: Residential
END:VEVENT
END:VCALENDAR
