BEGIN:VCALENDAR
VERSION:2.0
PRODID:-//3qinnovation.org//NONSGML kigkonsult.se iCalcreator 2.30.10//
CALSCALE:GREGORIAN
METHOD:PUBLISH
UID:f8e4bdf3-0978-42a4-b18b-0e1d80c7f109
X-WR-CALDESC:Join UGC for the next episode of Urban Green Live\, a series f
 eaturing industry experts who share insights and then answer YOUR question
 s about a low carbon future.  \n\nOn March 27\,  Nse Esema\, SVP of NYCEDC
 's Green Economy team\, will join Urban Green to discuss how NYC’s growing
  green workforce will accelerate building decarbonization efforts. \n\nNYC
 EDC and the Mayor’s Office of Talent and Workforce Development just releas
 ed the Green Economy Action Plan\, a first-of-its-kind roadmap to growing 
 NYC’s green economy. The plan identifies jobs and sectors that will help t
 he City combat climate change.  Its recommendations will help put New York
 ers -particularly those from environmentally disadvantaged communities - i
 n a position to benefit from the nearly 400\,000 ‘green-collar’ jobs expec
 ted in New York City by 2040.  (And buildings-related work accounts for ne
 arly half of these jobs.)
X-WR-RELCALID:bef5c34d36d134252138818c8e054e0c
X-WR-TIMEZONE:America/New_York
BEGIN:VTIMEZONE
TZID:America/New_York
BEGIN:STANDARD
TZNAME:EST
DTSTART:20231105T020000
TZOFFSETFROM:-0400
TZOFFSETTO:-0500
RDATE:20241103T020000
END:STANDARD
BEGIN:DAYLIGHT
TZNAME:EDT
DTSTART:20240310T020000
TZOFFSETFROM:-0500
TZOFFSETTO:-0400
RDATE:20250309T020000
END:DAYLIGHT
END:VTIMEZONE
BEGIN:VEVENT
UID:0d897d72-2021-4135-b18c-4f9c5ab51e59
DTSTAMP:20260422T235135Z
DESCRIPTION:Join UGC for the next episode of Urban Green Live\, a series fe
 aturing industry experts who share insights and then answer YOUR questions
  about a low carbon future.  \n\nOn March 27\,  Nse Esema\, SVP of NYCEDC'
 s Green Economy team\, will join Urban Green to discuss how NYC’s growing 
 green workforce will accelerate building decarbonization efforts. \n\nNYCE
 DC and the Mayor’s Office of Talent and Workforce Development just release
 d the Green Economy Action Plan\, a first-of-its-kind roadmap to growing N
 YC’s green economy. The plan identifies jobs and sectors that will help th
 e City combat climate change.  Its recommendations will help put New Yorke
 rs -particularly those from environmentally disadvantaged communities - in
  a position to benefit from the nearly 400\,000 ‘green-collar’ jobs expect
 ed in New York City by 2040.  (And buildings-related work accounts for nea
 rly half of these jobs.)
DTSTART;TZID=America/New_York:20240327T100000
DTEND;TZID=America/New_York:20240327T110000
LOCATION:
SUMMARY:Urban Green Live: The Green Economy Action Plan (with NYCEDC's Nse 
 Esema)
END:VEVENT
END:VCALENDAR
