BEGIN:VCALENDAR
VERSION:2.0
PRODID:-//3qinnovation.org//NONSGML kigkonsult.se iCalcreator 2.30.10//
CALSCALE:GREGORIAN
METHOD:PUBLISH
UID:983a9dff-023c-4b3b-b0f8-f7b85bbd11a6
X-WR-CALDESC:This Urban Green Council course teaches building and design pr
 ofessionals in New York State how to properly prove projects comply with t
 he 2020 Energy Conservation Construction Code of New York State (ECCCNYS).
  \n\nThis 2-hour live (virtual) training will cover topics related to both
  the Commercial and Residential energy code for New York State.
X-WR-RELCALID:816a006ad22b1c188a3190141dfa512f
X-WR-TIMEZONE:America/New_York
BEGIN:VTIMEZONE
TZID:America/New_York
BEGIN:STANDARD
TZNAME:EST
DTSTART:20231105T020000
TZOFFSETFROM:-0400
TZOFFSETTO:-0500
RDATE:20241103T020000
END:STANDARD
BEGIN:DAYLIGHT
TZNAME:EDT
DTSTART:20240310T020000
TZOFFSETFROM:-0500
TZOFFSETTO:-0400
RDATE:20250309T020000
END:DAYLIGHT
END:VTIMEZONE
BEGIN:VEVENT
UID:8eef1d04-0446-4e89-8ca9-5431ab79e3f5
DTSTAMP:20260422T234421Z
DESCRIPTION:This Urban Green Council course teaches building and design pro
 fessionals in New York State how to properly prove projects comply with th
 e 2020 Energy Conservation Construction Code of New York State (ECCCNYS). 
 \n\nThis 2-hour live (virtual) training will cover topics related to both 
 the Commercial and Residential energy code for New York State.
DTSTART;TZID=America/New_York:20240327T120000
DTEND;TZID=America/New_York:20240327T140000
LOCATION:
SUMMARY:Crushing the Code NYS: Demonstrate Compliance
END:VEVENT
END:VCALENDAR
