BEGIN:VCALENDAR
VERSION:2.0
PRODID:-//3qinnovation.org//NONSGML kigkonsult.se iCalcreator 2.30.10//
CALSCALE:GREGORIAN
METHOD:PUBLISH
UID:59df68fd-6b4a-4d22-9f5e-7f2d1df68835
X-WR-CALDESC:Join Urban Green and NYC Accelerator for a broad overview of l
 ocal building energy laws and how they apply to co-ops and condos.  Learn 
 about resources to help with your energy retrofit projects from start to f
 inish.\n
X-WR-RELCALID:52c1fe8bd821e9ad426b1322a34bb136
X-WR-TIMEZONE:America/New_York
BEGIN:VTIMEZONE
TZID:America/New_York
BEGIN:STANDARD
TZNAME:EST
DTSTART:20231105T020000
TZOFFSETFROM:-0400
TZOFFSETTO:-0500
RDATE:20241103T020000
END:STANDARD
BEGIN:DAYLIGHT
TZNAME:EDT
DTSTART:20230312T020000
TZOFFSETFROM:-0500
TZOFFSETTO:-0400
RDATE:20240310T020000
RDATE:20250309T020000
END:DAYLIGHT
END:VTIMEZONE
BEGIN:VEVENT
UID:0f7f5406-d6a6-4c31-ab61-0847a74b0f28
DTSTAMP:20260422T234956Z
DESCRIPTION:Join Urban Green and NYC Accelerator for a broad overview of lo
 cal building energy laws and how they apply to co-ops and condos.  Learn a
 bout resources to help with your energy retrofit projects from start to fi
 nish.\n
DTSTART;TZID=America/New_York:20240306T180000
DTEND;TZID=America/New_York:20240306T193000
LOCATION:Brooklyn Public Library\, Business and Career Center\, 10 Grand Ar
 my Plaza\, Brooklyn\, NY 11238
SUMMARY:Energy Retrofits for Co-ops & Condos
END:VEVENT
END:VCALENDAR
