BEGIN:VCALENDAR
VERSION:2.0
PRODID:-//3qinnovation.org//NONSGML kigkonsult.se iCalcreator 2.30.10//
CALSCALE:GREGORIAN
METHOD:PUBLISH
UID:3ffd2d8b-33b8-4fd6-b2bb-1c7165aebc10
X-WR-CALDESC:This Urban Green Council course teaches building and design pr
 ofessionals in New York State how to properly prove projects comply with t
 he 2020 Energy Conservation Construction Code of New York State (ECCCNYS).
  \n\nThis 2-hour live (virtual) training will cover topics related to both
  the Commercial and Residential energy code for New York State.
X-WR-RELCALID:5a330406f830e1a3669863ad7b692b5a
X-WR-TIMEZONE:America/New_York
BEGIN:VTIMEZONE
TZID:America/New_York
BEGIN:STANDARD
TZNAME:EST
DTSTART:20231105T020000
TZOFFSETFROM:-0400
TZOFFSETTO:-0500
RDATE:20241103T020000
END:STANDARD
BEGIN:DAYLIGHT
TZNAME:EDT
DTSTART:20230312T020000
TZOFFSETFROM:-0500
TZOFFSETTO:-0400
RDATE:20240310T020000
RDATE:20250309T020000
END:DAYLIGHT
END:VTIMEZONE
BEGIN:VEVENT
UID:926e965f-6c57-45fa-9c1f-7cd9ec7e93a8
DTSTAMP:20260423T030141Z
DESCRIPTION:This Urban Green Council course teaches building and design pro
 fessionals in New York State how to properly prove projects comply with th
 e 2020 Energy Conservation Construction Code of New York State (ECCCNYS). 
 \n\nThis 2-hour live (virtual) training will cover topics related to both 
 the Commercial and Residential energy code for New York State.
DTSTART;TZID=America/New_York:20240131T120000
DTEND;TZID=America/New_York:20240131T140000
LOCATION:
SUMMARY:Crushing the Code NYS: Demonstrate Compliance
END:VEVENT
END:VCALENDAR
