BEGIN:VCALENDAR
VERSION:2.0
PRODID:-//3qinnovation.org//NONSGML kigkonsult.se iCalcreator 2.30.10//
CALSCALE:GREGORIAN
METHOD:PUBLISH
UID:05c9f535-107b-4478-a423-92b845e0f320
X-WR-CALDESC:Join UGC for the next episode of Urban Green Live\, a series f
 eaturing industry experts who share insights and then answer YOUR question
 s about a low carbon future.  \n\nOn December 6th\, David Farnsworth\, Aru
 p Principle and Tess McNamara\, Arup Climate & Sustainability Senior Consu
 ltant will join Urban Green CEO John Mandyck to discuss Arub's research in
 to how much carbon could be saved by 2050 if NYC expanded the range of bui
 ldings eligible for office to residential conversions.  Come hear more abo
 ut the impetus (from a sustainability perspective) for making more of NYC’
 s office buildings eligible for residential conversions.
X-WR-RELCALID:b36c05834158ed8b522e3394ea9a47dc
X-WR-TIMEZONE:America/New_York
BEGIN:VTIMEZONE
TZID:America/New_York
BEGIN:STANDARD
TZNAME:EST
DTSTART:20231105T020000
TZOFFSETFROM:-0400
TZOFFSETTO:-0500
RDATE:20241103T020000
END:STANDARD
BEGIN:DAYLIGHT
TZNAME:EDT
DTSTART:20230312T020000
TZOFFSETFROM:-0500
TZOFFSETTO:-0400
RDATE:20240310T020000
RDATE:20250309T020000
END:DAYLIGHT
END:VTIMEZONE
BEGIN:VEVENT
UID:84f00893-171b-4af6-b0a7-ddaecb12d7e3
DTSTAMP:20260423T045737Z
DESCRIPTION:Join UGC for the next episode of Urban Green Live\, a series fe
 aturing industry experts who share insights and then answer YOUR questions
  about a low carbon future.  \n\nOn December 6th\, David Farnsworth\, Arup
  Principle and Tess McNamara\, Arup Climate & Sustainability Senior Consul
 tant will join Urban Green CEO John Mandyck to discuss Arub's research int
 o how much carbon could be saved by 2050 if NYC expanded the range of buil
 dings eligible for office to residential conversions.  Come hear more abou
 t the impetus (from a sustainability perspective) for making more of NYC’s
  office buildings eligible for residential conversions.
DTSTART;TZID=America/New_York:20231206T100000
DTEND;TZID=America/New_York:20231206T110000
LOCATION:
SUMMARY:Urban Green Live | Office to Residential Conversions: The Carbon St
 ory
END:VEVENT
END:VCALENDAR
