BEGIN:VCALENDAR
VERSION:2.0
PRODID:-//3qinnovation.org//NONSGML kigkonsult.se iCalcreator 2.30.10//
CALSCALE:GREGORIAN
METHOD:PUBLISH
UID:621a2cd1-01af-4f1a-9359-fabb823ba082
X-WR-CALDESC:The first compliance phase for Local Law 97 is imminent and en
 ergy upgrades in NYC’s existing buildings are lagging.  In order to meet c
 ompliance requirements\, what kind of upgrades are needed and who will do 
 the work? \n\nJoin Urban Green Council and 32BJ for a discussion on the ro
 le building operators will play in helping New York buildings meet their c
 arbon reduction goals.  Two new analyses will be presented that give conte
 xt to what NYC energy upgrades will mean for the workforce.  The presentat
 ions will be followed by a panel discussion that highlights how building o
 perators will contribute to the success of NYC’s decarbonization efforts.
X-WR-RELCALID:44b14984f41a21ffbd5af4e6bf684854
X-WR-TIMEZONE:America/New_York
BEGIN:VTIMEZONE
TZID:America/New_York
BEGIN:STANDARD
TZNAME:EST
DTSTART:20231105T020000
TZOFFSETFROM:-0400
TZOFFSETTO:-0500
RDATE:20241103T020000
END:STANDARD
BEGIN:DAYLIGHT
TZNAME:EDT
DTSTART:20230312T020000
TZOFFSETFROM:-0500
TZOFFSETTO:-0400
RDATE:20240310T020000
RDATE:20250309T020000
END:DAYLIGHT
END:VTIMEZONE
BEGIN:VEVENT
UID:a72aae23-5a2d-46f8-a2b4-0e820eb639a6
DTSTAMP:20260423T065342Z
DESCRIPTION:The first compliance phase for Local Law 97 is imminent and ene
 rgy upgrades in NYC’s existing buildings are lagging.  In order to meet co
 mpliance requirements\, what kind of upgrades are needed and who will do t
 he work? \n\nJoin Urban Green Council and 32BJ for a discussion on the rol
 e building operators will play in helping New York buildings meet their ca
 rbon reduction goals.  Two new analyses will be presented that give contex
 t to what NYC energy upgrades will mean for the workforce.  The presentati
 ons will be followed by a panel discussion that highlights how building op
 erators will contribute to the success of NYC’s decarbonization efforts.
DTSTART;TZID=America/New_York:20231115T090000
DTEND;TZID=America/New_York:20231115T110000
LOCATION:
SUMMARY:Workforce Solutions for Decarbonizing Buildings (Live - 32BJ SEIU)
END:VEVENT
END:VCALENDAR
