BEGIN:VCALENDAR
VERSION:2.0
PRODID:-//3qinnovation.org//NONSGML kigkonsult.se iCalcreator 2.30.10//
CALSCALE:GREGORIAN
METHOD:PUBLISH
UID:e2d699d3-773a-445e-a848-a1ee318b8e14
X-WR-CALDESC:Crushing the Code NYC: Commercial is an Urban Green Council co
 urse that prepares building and design professionals working on projects i
 n New York City to: 1) understand and comply with the many requirements in
  the 2020 NYC Energy Conservation Code (NYCECC) and 2) by understanding NY
 CECC compliance requirements\, design more energy-efficient buildings.  \n
 \nIn an era of more stringent code enforcement\, and upcoming NYC carbon e
 mission limits\, this course will also provide critical knowledge about si
 gnificant changes\, new provisions\, and best practices that will help pro
 fessionals avoid NYCECC compliance-related objections and/or delays that i
 mpact project timelines.
X-WR-RELCALID:61670363ca775fcfceca5f9ed14557e7
X-WR-TIMEZONE:America/New_York
BEGIN:VTIMEZONE
TZID:America/New_York
BEGIN:STANDARD
TZNAME:EST
DTSTART:20221106T020000
TZOFFSETFROM:-0400
TZOFFSETTO:-0500
RDATE:20231105T020000
RDATE:20241103T020000
END:STANDARD
BEGIN:DAYLIGHT
TZNAME:EDT
DTSTART:20230312T020000
TZOFFSETFROM:-0500
TZOFFSETTO:-0400
RDATE:20240310T020000
RDATE:20250309T020000
END:DAYLIGHT
END:VTIMEZONE
BEGIN:VEVENT
UID:17338ce9-9469-4961-af79-1ddd3e0421d2
DTSTAMP:20260423T091002Z
DESCRIPTION:Crushing the Code NYC: Commercial is an Urban Green Council cou
 rse that prepares building and design professionals working on projects in
  New York City to: 1) understand and comply with the many requirements in 
 the 2020 NYC Energy Conservation Code (NYCECC) and 2) by understanding NYC
 ECC compliance requirements\, design more energy-efficient buildings.  \n
 \nIn an era of more stringent code enforcement\, and upcoming NYC carbon e
 mission limits\, this course will also provide critical knowledge about si
 gnificant changes\, new provisions\, and best practices that will help pro
 fessionals avoid NYCECC compliance-related objections and/or delays that i
 mpact project timelines.
DTSTART;TZID=America/New_York:20231026T090000
DTEND;TZID=America/New_York:20231026T170000
LOCATION:
SUMMARY:Crushing the Code NY City: Commercial
END:VEVENT
END:VCALENDAR
