BEGIN:VCALENDAR
VERSION:2.0
PRODID:-//3qinnovation.org//NONSGML kigkonsult.se iCalcreator 2.30.10//
CALSCALE:GREGORIAN
METHOD:PUBLISH
UID:c7477e2f-02a0-49f4-a530-dfc85ce0c485
X-WR-CALDESC:Within the building industry\, low-carbon and energy-efficient
  construction will play a critical role in meeting increasingly stringent 
 local and national building performance goals. For successful implementati
 on\, these projects will require an understanding of new technologies\, pr
 ocesses\, and improved coordination across disciplines.\n\nUrban Green Cou
 ncil is now offering 'GPRO: Construction Management' in order to provide b
 uilding industry practitioners with sustainability best practices and acti
 onable strategies for every phase of construction they participate in\, as
  well as techniques to avoid common mistakes.\n\nCourse participants will 
 receive eight hours of live training (in person or virtually) and then mus
 t complete three online GRPO: Construction Management electives (most rele
 vant to their work) in order to successfully finish the program.\n\nThis c
 ourse is ideal for: construction managers\, general contractors\, experien
 ced tradespersons\, trade forepersons\, owner's representatives\, project 
 managers/site superintendents\, estimators\, and students or others intere
 sted in the building and construction industry.
X-WR-RELCALID:3a493eb3325e36c95b73dffdb8bcef8c
X-WR-TIMEZONE:America/New_York
BEGIN:VTIMEZONE
TZID:America/New_York
BEGIN:STANDARD
TZNAME:EST
DTSTART:20221106T020000
TZOFFSETFROM:-0400
TZOFFSETTO:-0500
RDATE:20231105T020000
RDATE:20241103T020000
END:STANDARD
BEGIN:DAYLIGHT
TZNAME:EDT
DTSTART:20230312T020000
TZOFFSETFROM:-0500
TZOFFSETTO:-0400
RDATE:20240310T020000
RDATE:20250309T020000
END:DAYLIGHT
END:VTIMEZONE
BEGIN:VEVENT
UID:d5c6c461-deeb-4f12-8c2f-d19cd2cfbd40
DTSTAMP:20260423T084752Z
DESCRIPTION:Within the building industry\, low-carbon and energy-efficient 
 construction will play a critical role in meeting increasingly stringent l
 ocal and national building performance goals. For successful implementatio
 n\, these projects will require an understanding of new technologies\, pro
 cesses\, and improved coordination across disciplines.\n\nUrban Green Coun
 cil is now offering 'GPRO: Construction Management' in order to provide bu
 ilding industry practitioners with sustainability best practices and actio
 nable strategies for every phase of construction they participate in\, as 
 well as techniques to avoid common mistakes.\n\nCourse participants will r
 eceive eight hours of live training (in person or virtually) and then must
  complete three online GRPO: Construction Management electives (most relev
 ant to their work) in order to successfully finish the program.\n\nThis co
 urse is ideal for: construction managers\, general contractors\, experienc
 ed tradespersons\, trade forepersons\, owner's representatives\, project m
 anagers/site superintendents\, estimators\, and students or others interes
 ted in the building and construction industry.
DTSTART;TZID=America/New_York:20231018T090000
DTEND;TZID=America/New_York:20231018T170000
LOCATION:
SUMMARY:GPRO: Construction Management
END:VEVENT
END:VCALENDAR
