BEGIN:VCALENDAR
VERSION:2.0
PRODID:-//3qinnovation.org//NONSGML kigkonsult.se iCalcreator 2.30.10//
CALSCALE:GREGORIAN
METHOD:PUBLISH
UID:c630a8d6-45de-4d82-8f32-a44742b87e1a
X-WR-CALDESC:This course is for affordable housing project teams - includin
 g building owners\, architects\, and contractors.  Training focuses on how
  to design and construct high-performance buildings that are resilient aga
 inst the increasing pressure of climate change AND align with NYC | NY Sta
 te climate goals.\n\nParticipants in this course should expect to gain a d
 eeper understanding of how the climate crisis and evolving NYC | NY State 
 policies impact the building industry as well as insights into design & co
 nstruction best-practice strategies (such as Integrative Design Process (I
 DP) and HPD-specific funding opportunities).
X-WR-RELCALID:ee4fb01197595257fc6e5f634d10e9a1
X-WR-TIMEZONE:America/New_York
BEGIN:VTIMEZONE
TZID:America/New_York
BEGIN:STANDARD
TZNAME:EST
DTSTART:20221106T020000
TZOFFSETFROM:-0400
TZOFFSETTO:-0500
RDATE:20231105T020000
RDATE:20241103T020000
END:STANDARD
BEGIN:DAYLIGHT
TZNAME:EDT
DTSTART:20230312T020000
TZOFFSETFROM:-0500
TZOFFSETTO:-0400
RDATE:20240310T020000
RDATE:20250309T020000
END:DAYLIGHT
END:VTIMEZONE
BEGIN:VEVENT
UID:234e36af-8857-4ab8-bd59-e9c43577b384
DTSTAMP:20260423T084345Z
DESCRIPTION:This course is for affordable housing project teams - including
  building owners\, architects\, and contractors.  Training focuses on how 
 to design and construct high-performance buildings that are resilient agai
 nst the increasing pressure of climate change AND align with NYC | NY Stat
 e climate goals.\n\nParticipants in this course should expect to gain a de
 eper understanding of how the climate crisis and evolving NYC | NY State p
 olicies impact the building industry as well as insights into design & con
 struction best-practice strategies (such as Integrative Design Process (ID
 P) and HPD-specific funding opportunities).
DTSTART;TZID=America/New_York:20231004T090000
DTEND;TZID=America/New_York:20231004T120000
LOCATION:
SUMMARY:Climate Ready Buildings Training
END:VEVENT
END:VCALENDAR
