BEGIN:VCALENDAR
VERSION:2.0
PRODID:-//3qinnovation.org//NONSGML kigkonsult.se iCalcreator 2.30.10//
CALSCALE:GREGORIAN
METHOD:PUBLISH
UID:0d79f548-9395-4a8e-a837-fae358a210ce
X-WR-CALDESC:Urban Green Council is offering a free 1.5-hour class - What’s
  New in the 2020 New York Energy Code - that covers all significant update
 s in 2020 energy codes across New York State.  Learn how energy codes have
  changed since 2016\, including stricter provisions in both NYStretch and 
 the NYC Energy Code\, and how the updates relate to current climate legisl
 ation like NYC’s Local Law 97.  \n\nThis class is recommended for any desi
 gn or building professional working on NYS or NYC projects.\n
X-WR-RELCALID:d926f42b7ae5893482f2c699f21c70a1
X-WR-TIMEZONE:America/New_York
BEGIN:VTIMEZONE
TZID:America/New_York
BEGIN:STANDARD
TZNAME:EST
DTSTART:20221106T020000
TZOFFSETFROM:-0400
TZOFFSETTO:-0500
RDATE:20231105T020000
RDATE:20241103T020000
END:STANDARD
BEGIN:DAYLIGHT
TZNAME:EDT
DTSTART:20230312T020000
TZOFFSETFROM:-0500
TZOFFSETTO:-0400
RDATE:20240310T020000
RDATE:20250309T020000
END:DAYLIGHT
END:VTIMEZONE
BEGIN:VEVENT
UID:bae829f5-b3d9-45fb-b0f7-82e86194549f
DTSTAMP:20260423T103204Z
DESCRIPTION:Urban Green Council is offering a free 1.5-hour class - What’s 
 New in the 2020 New York Energy Code - that covers all significant updates
  in 2020 energy codes across New York State.  Learn how energy codes have 
 changed since 2016\, including stricter provisions in both NYStretch and t
 he NYC Energy Code\, and how the updates relate to current climate legisla
 tion like NYC’s Local Law 97.  \n\nThis class is recommended for any desig
 n or building professional working on NYS or NYC projects.\n
DTSTART;TZID=America/New_York:20230927T113000
DTEND;TZID=America/New_York:20230927T130000
LOCATION:
SUMMARY:What's New in the 2020 New York Energy Code
END:VEVENT
END:VCALENDAR
