BEGIN:VCALENDAR
VERSION:2.0
PRODID:-//3qinnovation.org//NONSGML kigkonsult.se iCalcreator 2.30.10//
CALSCALE:GREGORIAN
METHOD:PUBLISH
UID:87f65390-5385-4bdf-bf1b-23ddc93479e2
X-WR-CALDESC:Urban Green Council is offering a new course - GPRO: Fundament
 als of Building Green - so you can learn how to see buildings differently 
 and discover strategies to make them efficient\, healthy and resilient.\n
 \nThis course is ideal for anyone who needs a better understanding of high
 -performance building\, including sales or administrative staff in real es
 tate\, construction\, architecture or engineering\, workforce development 
 providers\, facilities and operations staff\, and college students interes
 ted in entering the building or construction industry.
X-WR-RELCALID:6aac54920f087c8fa3a1f86d615053e8
X-WR-TIMEZONE:America/New_York
BEGIN:VTIMEZONE
TZID:America/New_York
BEGIN:STANDARD
TZNAME:EST
DTSTART:20221106T020000
TZOFFSETFROM:-0400
TZOFFSETTO:-0500
RDATE:20231105T020000
RDATE:20241103T020000
END:STANDARD
BEGIN:DAYLIGHT
TZNAME:EDT
DTSTART:20230312T020000
TZOFFSETFROM:-0500
TZOFFSETTO:-0400
RDATE:20240310T020000
RDATE:20250309T020000
END:DAYLIGHT
END:VTIMEZONE
BEGIN:VEVENT
UID:f4100116-d1af-489f-96fc-306ffc58175d
DTSTAMP:20260423T103445Z
DESCRIPTION:Urban Green Council is offering a new course - GPRO: Fundamenta
 ls of Building Green - so you can learn how to see buildings differently a
 nd discover strategies to make them efficient\, healthy and resilient.\n\n
 This course is ideal for anyone who needs a better understanding of high-p
 erformance building\, including sales or administrative staff in real esta
 te\, construction\, architecture or engineering\, workforce development pr
 oviders\, facilities and operations staff\, and college students intereste
 d in entering the building or construction industry.
DTSTART;TZID=America/New_York:20230921T090000
DTEND;TZID=America/New_York:20230921T140000
LOCATION:
SUMMARY:GPRO: Fundamentals of Building Green
END:VEVENT
END:VCALENDAR
