BEGIN:VCALENDAR
VERSION:2.0
PRODID:-//3qinnovation.org//NONSGML kigkonsult.se iCalcreator 2.30.10//
CALSCALE:GREGORIAN
METHOD:PUBLISH
UID:89a6ba3b-a59c-4aae-822c-aaf2f270c30c
X-WR-CALDESC:NYC Comptroller Brad Lander will join Urban Green CEO John Man
 dyck for a conversation about the Comptroller's net zero plan and how fina
 nce can be a lever for decarbonization. \n\nFollowing their conversation\,
  a panel will address the city's largest source of carbon: buildings. This
  event will be held both in person at NYU and livestreamed via Zoom. \n
X-WR-RELCALID:41ec42ad2e84a821177db2fd18fa7073
X-WR-TIMEZONE:America/New_York
BEGIN:VTIMEZONE
TZID:America/New_York
BEGIN:STANDARD
TZNAME:EST
DTSTART:20221106T020000
TZOFFSETFROM:-0400
TZOFFSETTO:-0500
RDATE:20231105T020000
RDATE:20241103T020000
END:STANDARD
BEGIN:DAYLIGHT
TZNAME:EDT
DTSTART:20230312T020000
TZOFFSETFROM:-0500
TZOFFSETTO:-0400
RDATE:20240310T020000
RDATE:20250309T020000
END:DAYLIGHT
END:VTIMEZONE
BEGIN:VEVENT
UID:5fd5c4b1-4f15-4c6b-ae23-4b12d13ca496
DTSTAMP:20260423T102708Z
DESCRIPTION:NYC Comptroller Brad Lander will join Urban Green CEO John Mand
 yck for a conversation about the Comptroller's net zero plan and how finan
 ce can be a lever for decarbonization. \n\nFollowing their conversation\, 
 a panel will address the city's largest source of carbon: buildings. This 
 event will be held both in person at NYU and livestreamed via Zoom. \n
DTSTART;TZID=America/New_York:20230913T160000
DTEND;TZID=America/New_York:20230913T180000
LOCATION:
SUMMARY:Decarbonizing Finance to Combat Climate Change - (Livestream Event)
END:VEVENT
END:VCALENDAR
