BEGIN:VCALENDAR
VERSION:2.0
PRODID:-//3qinnovation.org//NONSGML kigkonsult.se iCalcreator 2.30.10//
CALSCALE:GREGORIAN
METHOD:PUBLISH
UID:163b434b-e2ef-4ca9-819d-bdc0ec8771da
X-WR-CALDESC:This Urban Green course prepares building and design professio
 nals in New York State to navigate the requirements of the 2020 Energy Con
 servation Construction Code of New York State (ECCCNYS). \n\nIn this 2-hou
 r live (virtual) training introductory session\, participants will learn w
 hat the energy code is\, why it was developed\, where it’s headed\, and di
 fferent ways to comply with it.  \n\nThis course will cover topics related
  to both the Commercial and Residential energy code for New York State.
X-WR-RELCALID:a5b3a50611a7a375dcd34d7464b943b1
X-WR-TIMEZONE:America/New_York
BEGIN:VTIMEZONE
TZID:America/New_York
BEGIN:STANDARD
TZNAME:EST
DTSTART:20221106T020000
TZOFFSETFROM:-0400
TZOFFSETTO:-0500
RDATE:20231105T020000
RDATE:20241103T020000
END:STANDARD
BEGIN:DAYLIGHT
TZNAME:EDT
DTSTART:20230312T020000
TZOFFSETFROM:-0500
TZOFFSETTO:-0400
RDATE:20240310T020000
END:DAYLIGHT
END:VTIMEZONE
BEGIN:VEVENT
UID:1a01834d-8434-4ca8-900d-481e38069de0
DTSTAMP:20260423T120420Z
DESCRIPTION:This Urban Green course prepares building and design profession
 als in New York State to navigate the requirements of the 2020 Energy Cons
 ervation Construction Code of New York State (ECCCNYS). \n\nIn this 2-hour
  live (virtual) training introductory session\, participants will learn wh
 at the energy code is\, why it was developed\, where it’s headed\, and dif
 ferent ways to comply with it.  \n\nThis course will cover topics related 
 to both the Commercial and Residential energy code for New York State.
DTSTART;TZID=America/New_York:20230803T100000
DTEND;TZID=America/New_York:20230803T120000
LOCATION:
SUMMARY:Crushing the Code NYS: Energy Code 101
END:VEVENT
END:VCALENDAR
