BEGIN:VCALENDAR
VERSION:2.0
PRODID:-//3qinnovation.org//NONSGML kigkonsult.se iCalcreator 2.30.10//
CALSCALE:GREGORIAN
METHOD:PUBLISH
UID:a24f41fe-b9f9-444d-8562-d45531a2a88a
X-WR-CALDESC:In April 2023\, the NYC Dept of City Planning proposed amendme
 nts to the City’s zoning resolution that would modernize the zoning code t
 o make it easier to meet NYC climate goals. The proposed changes - referre
 d to as 'City of Yes for Carbon Neutrality' - will cover energy\, building
 s\, transportation\, waste & storm water...and will include recommendation
 s from Urban Green’s 2018 Zone Greener report.  \n\nIf enacted\, these cha
 nges will remove some existing barriers to decarbonization projects in the
  NYC zoning code which are particularly important for buildings. The amend
 ments are now under a public review period.\n\nJoin Urban Green for a pane
 l discussion with experienced building professionals to learn how these ne
 w zoning changes will help enable energy efficient design & retrofits\, el
 ectrification\, solar\, battery storage\, and other building decarbonizati
 on projects.
X-WR-RELCALID:97e624218004847ffd0a48ee80cb56ec
X-WR-TIMEZONE:America/New_York
BEGIN:VTIMEZONE
TZID:America/New_York
BEGIN:STANDARD
TZNAME:EST
DTSTART:20221106T020000
TZOFFSETFROM:-0400
TZOFFSETTO:-0500
RDATE:20231105T020000
RDATE:20241103T020000
END:STANDARD
BEGIN:DAYLIGHT
TZNAME:EDT
DTSTART:20230312T020000
TZOFFSETFROM:-0500
TZOFFSETTO:-0400
RDATE:20240310T020000
END:DAYLIGHT
END:VTIMEZONE
BEGIN:VEVENT
UID:05c60bd0-eb9b-487c-916a-08956c0cd4a7
DTSTAMP:20260423T134234Z
DESCRIPTION:In April 2023\, the NYC Dept of City Planning proposed amendmen
 ts to the City’s zoning resolution that would modernize the zoning code to
  make it easier to meet NYC climate goals. The proposed changes - referred
  to as 'City of Yes for Carbon Neutrality' - will cover energy\, buildings
 \, transportation\, waste & storm water...and will include recommendations
  from Urban Green’s 2018 Zone Greener report.  \n\nIf enacted\, these chan
 ges will remove some existing barriers to decarbonization projects in the 
 NYC zoning code which are particularly important for buildings. The amendm
 ents are now under a public review period.\n\nJoin Urban Green for a panel
  discussion with experienced building professionals to learn how these new
  zoning changes will help enable energy efficient design & retrofits\, ele
 ctrification\, solar\, battery storage\, and other building decarbonizatio
 n projects.
DTSTART;TZID=America/New_York:20230710T130000
DTEND;TZID=America/New_York:20230710T143000
LOCATION:
SUMMARY:Zoning for Decarbonization
END:VEVENT
END:VCALENDAR
