BEGIN:VCALENDAR
VERSION:2.0
PRODID:-//3qinnovation.org//NONSGML kigkonsult.se iCalcreator 2.30.10//
CALSCALE:GREGORIAN
METHOD:PUBLISH
UID:e30def14-6b82-42c5-81b3-32c2ab501efd
X-WR-CALDESC:Future-Proofing New Construction is an Urban Green Council and
  NYC Accelerator presentation (panel format) that will provide developers\
 , designers\, and builders a solid overview of resources available to help
  the 'new construction community' navigate compliance requirements under L
 ocal Laws 92/94\, 97\, 154\, and future energy codes. \n\nLearn from indus
 try experts about design practices and cutting-edge technology to future-p
 roof your building against regulations and codes.  Connect to resources me
 ant to help you build the best building possible that contributes to a sus
 tainable future for NYC.\n
X-WR-RELCALID:cf20cee771d3cb5ce08cebbcebb4081a
X-WR-TIMEZONE:America/New_York
BEGIN:VTIMEZONE
TZID:America/New_York
BEGIN:STANDARD
TZNAME:EST
DTSTART:20221106T020000
TZOFFSETFROM:-0400
TZOFFSETTO:-0500
RDATE:20231105T020000
RDATE:20241103T020000
END:STANDARD
BEGIN:DAYLIGHT
TZNAME:EDT
DTSTART:20230312T020000
TZOFFSETFROM:-0500
TZOFFSETTO:-0400
RDATE:20240310T020000
END:DAYLIGHT
END:VTIMEZONE
BEGIN:VEVENT
UID:7c494cf4-6ee7-4a43-986d-1eb03d2da6d4
DTSTAMP:20260423T152021Z
DESCRIPTION:Future-Proofing New Construction is an Urban Green Council and 
 NYC Accelerator presentation (panel format) that will provide developers\,
  designers\, and builders a solid overview of resources available to help 
 the 'new construction community' navigate compliance requirements under Lo
 cal Laws 92/94\, 97\, 154\, and future energy codes. \n\nLearn from indust
 ry experts about design practices and cutting-edge technology to future-pr
 oof your building against regulations and codes.  Connect to resources mea
 nt to help you build the best building possible that contributes to a sust
 ainable future for NYC.\n
DTSTART;TZID=America/New_York:20230629T100000
DTEND;TZID=America/New_York:20230629T113000
LOCATION:
SUMMARY:Future-Proofing New Construction
END:VEVENT
END:VCALENDAR
