BEGIN:VCALENDAR
VERSION:2.0
PRODID:-//3qinnovation.org//NONSGML kigkonsult.se iCalcreator 2.30.10//
CALSCALE:GREGORIAN
METHOD:PUBLISH
UID:7efa18b7-d2fe-4171-9f80-6dc077a1c485
X-WR-CALDESC:Second course of two-part Passive House Fundamentals series.  
 First course 'Airtightness & Ventilation' took place June 7th.\n\nThis BEE
  Passive House Fundamentals two-part series dives into the following key p
 rinciples of high performance building design: airtightness\, energy recov
 ery ventilation\, insulation & thermal bridging\, and windows & doors.  \n
 \nPart 1 taught how to achieve a continuous airtight barrier for retrofits
  | new construction and utilize efficient balanced ventilation systems.  T
 he course discussed lowering heating | cooling demand\, improving indoor a
 ir quality\, preventing moisture | mold issues\, and achieving Passive Hou
 se Certification.\n\nPart 2 teaches the basics of Passive House insulation
  materials & techniques\, principles of thermal bridging & high performanc
 e\, and how to select | install high performance window & door products wi
 thout compromising aesthetic. Participants will learn about improving ther
 mal comfort\, cutting energy costs\, enhancing resiliency\, and extending 
 the lifespan of a building components.
X-WR-RELCALID:e91e4a20154e1d6af75113e78ab1e847
X-WR-TIMEZONE:America/New_York
BEGIN:VTIMEZONE
TZID:America/New_York
BEGIN:STANDARD
TZNAME:EST
DTSTART:20221106T020000
TZOFFSETFROM:-0400
TZOFFSETTO:-0500
RDATE:20231105T020000
RDATE:20241103T020000
END:STANDARD
BEGIN:DAYLIGHT
TZNAME:EDT
DTSTART:20230312T020000
TZOFFSETFROM:-0500
TZOFFSETTO:-0400
RDATE:20240310T020000
END:DAYLIGHT
END:VTIMEZONE
BEGIN:VEVENT
UID:781d74a2-a160-40e4-8b2b-c584482be333
DTSTAMP:20260423T151507Z
DESCRIPTION:Second course of two-part Passive House Fundamentals series.  F
 irst course 'Airtightness & Ventilation' took place June 7th.\n\nThis BEE 
 Passive House Fundamentals two-part series dives into the following key pr
 inciples of high performance building design: airtightness\, energy recove
 ry ventilation\, insulation & thermal bridging\, and windows & doors.  \n
 \nPart 1 taught how to achieve a continuous airtight barrier for retrofits
  | new construction and utilize efficient balanced ventilation systems.  T
 he course discussed lowering heating | cooling demand\, improving indoor a
 ir quality\, preventing moisture | mold issues\, and achieving Passive Hou
 se Certification.\n\nPart 2 teaches the basics of Passive House insulation
  materials & techniques\, principles of thermal bridging & high performanc
 e\, and how to select | install high performance window & door products wi
 thout compromising aesthetic. Participants will learn about improving ther
 mal comfort\, cutting energy costs\, enhancing resiliency\, and extending 
 the lifespan of a building components.
DTSTART;TZID=America/New_York:20230614T130000
DTEND;TZID=America/New_York:20230614T143000
LOCATION:
SUMMARY:Insulation\, Thermal Bridging\, Windows & Doors
END:VEVENT
END:VCALENDAR
