BEGIN:VCALENDAR
VERSION:2.0
PRODID:-//3qinnovation.org//NONSGML kigkonsult.se iCalcreator 2.30.10//
CALSCALE:GREGORIAN
METHOD:PUBLISH
UID:b511f983-ceea-4e48-b68c-95e08f3305fc
X-WR-CALDESC:The Emerging Leaders and Markets (ELM) Conference is the New Y
 ork Real Estate Chamber’s signature event\, bringing together leaders from
  Government\, Business\, Community Development\, and Finance to enlighten 
 attendees with regard to current opportunities and innovations in a series
  of topical panels. The New York Real Estate Chamber (NYREC) expects ELM t
 o attract 200 commercial and housing real estate professionals\, along wit
 h political and community leaders from throughout the Tri-State Area.\n\nE
 LM will feature some of the real estate’s most successful and innovative d
 eal makers and leaders of minority-owned firms and just as important leadi
 ng public policymakers\, to drive the discourse\, develop ideas\, and rela
 tionships around sustainable development in urban communities. The ELM Con
 ference is a uniquely powerful opportunity to connect with dynamic develop
 ers\, government officials\, financiers\, and other real estate profession
 als engaged in remaking the urban landscape.
X-WR-RELCALID:253c145d05b32792c1539b9810fba7cc
X-WR-TIMEZONE:America/New_York
BEGIN:VTIMEZONE
TZID:America/New_York
BEGIN:STANDARD
TZNAME:EST
DTSTART:20221106T020000
TZOFFSETFROM:-0400
TZOFFSETTO:-0500
RDATE:20231105T020000
RDATE:20241103T020000
END:STANDARD
BEGIN:DAYLIGHT
TZNAME:EDT
DTSTART:20230312T020000
TZOFFSETFROM:-0500
TZOFFSETTO:-0400
RDATE:20240310T020000
END:DAYLIGHT
END:VTIMEZONE
BEGIN:VEVENT
UID:aef13a3e-cc25-4b57-829f-f04e95e5a1eb
DTSTAMP:20260423T152014Z
DESCRIPTION:The Emerging Leaders and Markets (ELM) Conference is the New Yo
 rk Real Estate Chamber’s signature event\, bringing together leaders from 
 Government\, Business\, Community Development\, and Finance to enlighten a
 ttendees with regard to current opportunities and innovations in a series 
 of topical panels. The New York Real Estate Chamber (NYREC) expects ELM to
  attract 200 commercial and housing real estate professionals\, along with
  political and community leaders from throughout the Tri-State Area.\n\nEL
 M will feature some of the real estate’s most successful and innovative de
 al makers and leaders of minority-owned firms and just as important leadin
 g public policymakers\, to drive the discourse\, develop ideas\, and relat
 ionships around sustainable development in urban communities. The ELM Conf
 erence is a uniquely powerful opportunity to connect with dynamic develope
 rs\, government officials\, financiers\, and other real estate professiona
 ls engaged in remaking the urban landscape.
DTSTART;TZID=America/New_York:20230609T080000
DTEND;TZID=America/New_York:20230609T170000
LOCATION:
SUMMARY:NYREC 2023 Emerging Leaders & Market Conference
END:VEVENT
END:VCALENDAR
