BEGIN:VCALENDAR
VERSION:2.0
PRODID:-//3qinnovation.org//NONSGML kigkonsult.se iCalcreator 2.30.10//
CALSCALE:GREGORIAN
METHOD:PUBLISH
UID:738f49b9-9eeb-4132-b874-8414e1f64fce
X-WR-CALDESC:First course of two-part Passive House Fundamentals series. Se
 cond course 'Insulation\, Thermal Bridging\, Windows & Doors' takes place 
 June 14th.\n\nThis BEE Passive House Fundamentals two-part series dives in
 to the following key principles of high performance building design: airti
 ghtness\, energy recovery ventilation\, insulation & thermal bridging\, an
 d windows & doors.  \n\nPart 1 teaches how to achieve a continuous airtigh
 t barrier for retrofits | new construction and utilize efficient balanced 
 ventilation systems.  The course will discuss lowering heating | cooling d
 emand\, improving indoor air quality\, preventing moisture | mold issues\,
  and achieving Passive House Certification.\n\nPart 2 teaches the basics o
 f Passive House insulation materials & techniques\, principles of thermal 
 bridging & high performance\, and how to select | install high performance
  window & door products without compromising aesthetic. Participants will 
 learn about improving thermal comfort\, cutting energy costs\, enhancing r
 esiliency\, and extending the lifespan of a building components.
X-WR-RELCALID:ecda8c1949eda06b93bfac5d20fa92e3
X-WR-TIMEZONE:America/New_York
BEGIN:VTIMEZONE
TZID:America/New_York
BEGIN:STANDARD
TZNAME:EST
DTSTART:20221106T020000
TZOFFSETFROM:-0400
TZOFFSETTO:-0500
RDATE:20231105T020000
RDATE:20241103T020000
END:STANDARD
BEGIN:DAYLIGHT
TZNAME:EDT
DTSTART:20230312T020000
TZOFFSETFROM:-0500
TZOFFSETTO:-0400
RDATE:20240310T020000
END:DAYLIGHT
END:VTIMEZONE
BEGIN:VEVENT
UID:b41e5c20-61bb-41d8-83c8-170251b90767
DTSTAMP:20260423T152333Z
DESCRIPTION:First course of two-part Passive House Fundamentals series. Sec
 ond course 'Insulation\, Thermal Bridging\, Windows & Doors' takes place J
 une 14th.\n\nThis BEE Passive House Fundamentals two-part series dives int
 o the following key principles of high performance building design: airtig
 htness\, energy recovery ventilation\, insulation & thermal bridging\, and
  windows & doors.  \n\nPart 1 teaches how to achieve a continuous airtight
  barrier for retrofits | new construction and utilize efficient balanced v
 entilation systems.  The course will discuss lowering heating | cooling de
 mand\, improving indoor air quality\, preventing moisture | mold issues\, 
 and achieving Passive House Certification.\n\nPart 2 teaches the basics of
  Passive House insulation materials & techniques\, principles of thermal b
 ridging & high performance\, and how to select | install high performance 
 window & door products without compromising aesthetic. Participants will l
 earn about improving thermal comfort\, cutting energy costs\, enhancing re
 siliency\, and extending the lifespan of a building components.
DTSTART;TZID=America/New_York:20230607T130000
DTEND;TZID=America/New_York:20230607T143000
LOCATION:
SUMMARY:Airtightness & Ventilation
END:VEVENT
END:VCALENDAR
