BEGIN:VCALENDAR
VERSION:2.0
PRODID:-//3qinnovation.org//NONSGML kigkonsult.se iCalcreator 2.30.10//
CALSCALE:GREGORIAN
METHOD:PUBLISH
UID:c50da89b-3a08-45fc-bc27-12014adbf6e8
X-WR-CALDESC:Join NYC Accelerator and NYC Housing Preservation & Developmen
 t (HPD) in the next installment of their LL97 Act Now training series.  \n
 \nAre you wondering how LL97 affects your affordable housing building or p
 ortfolio of buildings?  Join this live event to learn about LL97.  We’ll a
 ddress articles 320 and 321 and discuss how you can get started on complia
 nce before the first 2024 deadline.  There will also be time for you to as
 k specific questions about LL97.
X-WR-RELCALID:1dd895081de8b0cb744f90e69b1d096a
X-WR-TIMEZONE:America/New_York
BEGIN:VTIMEZONE
TZID:America/New_York
BEGIN:STANDARD
TZNAME:EST
DTSTART:20221106T020000
TZOFFSETFROM:-0400
TZOFFSETTO:-0500
RDATE:20231105T020000
RDATE:20241103T020000
END:STANDARD
BEGIN:DAYLIGHT
TZNAME:EDT
DTSTART:20230312T020000
TZOFFSETFROM:-0500
TZOFFSETTO:-0400
RDATE:20240310T020000
END:DAYLIGHT
END:VTIMEZONE
BEGIN:VEVENT
UID:e372e7e4-6013-478c-82c6-0f6cd64e91d1
DTSTAMP:20260423T163348Z
DESCRIPTION:Join NYC Accelerator and NYC Housing Preservation & Development
  (HPD) in the next installment of their LL97 Act Now training series.  \n
 \nAre you wondering how LL97 affects your affordable housing building or p
 ortfolio of buildings?  Join this live event to learn about LL97.  We’ll a
 ddress articles 320 and 321 and discuss how you can get started on complia
 nce before the first 2024 deadline.  There will also be time for you to as
 k specific questions about LL97.
DTSTART;TZID=America/New_York:20230525T180000
DTEND;TZID=America/New_York:20230525T193000
LOCATION:
SUMMARY:LL97 Act Now Series - Ask Me Anything: LL97 & Affordable Housing
END:VEVENT
END:VCALENDAR
