BEGIN:VCALENDAR
VERSION:2.0
PRODID:-//3qinnovation.org//NONSGML kigkonsult.se iCalcreator 2.30.10//
CALSCALE:GREGORIAN
METHOD:PUBLISH
UID:16f63e3d-a3a6-423a-a125-4e59763f299a
X-WR-CALDESC:Join NYC Accelerator and NYC Housing Preservation & Developmen
 t (HPD) in the next installment of their LL97 Act Now training series.  \n
 \nAre you wondering how LL97 affects your affordable housing building or p
 ortfolio of buildings?  Join this live event to learn about LL97.  We’ll a
 ddress articles 320 and 321 and discuss how you can get started on complia
 nce before the first 2024 deadline.  There will also be time for you to as
 k specific questions about LL97.
X-WR-RELCALID:799ff23fc2803d70058290e1a15a82d5
X-WR-TIMEZONE:America/New_York
BEGIN:VTIMEZONE
TZID:America/New_York
BEGIN:STANDARD
TZNAME:EST
DTSTART:20221106T020000
TZOFFSETFROM:-0400
TZOFFSETTO:-0500
RDATE:20231105T020000
RDATE:20241103T020000
END:STANDARD
BEGIN:DAYLIGHT
TZNAME:EDT
DTSTART:20230312T020000
TZOFFSETFROM:-0500
TZOFFSETTO:-0400
RDATE:20240310T020000
END:DAYLIGHT
END:VTIMEZONE
BEGIN:VEVENT
UID:d3e879bc-e58a-46f6-9513-d7648d3425d5
DTSTAMP:20260423T163639Z
DESCRIPTION:Join NYC Accelerator and NYC Housing Preservation & Development
  (HPD) in the next installment of their LL97 Act Now training series.  \n
 \nAre you wondering how LL97 affects your affordable housing building or p
 ortfolio of buildings?  Join this live event to learn about LL97.  We’ll a
 ddress articles 320 and 321 and discuss how you can get started on complia
 nce before the first 2024 deadline.  There will also be time for you to as
 k specific questions about LL97.
DTSTART;TZID=America/New_York:20230525T110000
DTEND;TZID=America/New_York:20230525T123000
LOCATION:
SUMMARY:LL97 Act Now Series - Ask Me Anything: LL97 & Affordable Housing
END:VEVENT
END:VCALENDAR
