BEGIN:VCALENDAR
VERSION:2.0
PRODID:-//3qinnovation.org//NONSGML kigkonsult.se iCalcreator 2.30.10//
CALSCALE:GREGORIAN
METHOD:PUBLISH
UID:fe1cad98-f227-4858-84a8-e28017064b58
X-WR-CALDESC:Join NYC Accelerator and NYC Housing Preservation & Developmen
 t (HPD) in the next installment of their LL97 Act Now training series.  \n
 \nAre you planning upgrades to your multifamily property and interested in
  learning about available funding sources?  Join this live event to learn 
 about funding sources for energy efficiency projects available to multifam
 ily properties in NYC!  Learn about Utility & New York State incentives as
  well as available loans from other entities that can help you.   There wi
 ll also be time for you to talk about your specific building - and connect
  with NYC Accelerator for free technical assistance.
X-WR-RELCALID:a45fc5d62e8705109aed257b71a58ac8
X-WR-TIMEZONE:America/New_York
BEGIN:VTIMEZONE
TZID:America/New_York
BEGIN:STANDARD
TZNAME:EST
DTSTART:20221106T020000
TZOFFSETFROM:-0400
TZOFFSETTO:-0500
RDATE:20231105T020000
RDATE:20241103T020000
END:STANDARD
BEGIN:DAYLIGHT
TZNAME:EDT
DTSTART:20230312T020000
TZOFFSETFROM:-0500
TZOFFSETTO:-0400
RDATE:20240310T020000
END:DAYLIGHT
END:VTIMEZONE
BEGIN:VEVENT
UID:f68dc28f-c757-4029-979c-31faa0b56fba
DTSTAMP:20260423T163231Z
DESCRIPTION:Join NYC Accelerator and NYC Housing Preservation & Development
  (HPD) in the next installment of their LL97 Act Now training series.  \n
 \nAre you planning upgrades to your multifamily property and interested in
  learning about available funding sources?  Join this live event to learn 
 about funding sources for energy efficiency projects available to multifam
 ily properties in NYC!  Learn about Utility & New York State incentives as
  well as available loans from other entities that can help you.   There wi
 ll also be time for you to talk about your specific building - and connect
  with NYC Accelerator for free technical assistance.
DTSTART;TZID=America/New_York:20230510T180000
DTEND;TZID=America/New_York:20230510T193000
LOCATION:
SUMMARY:LL97 Act Now Series - Ask Me Anything: Financing & Incentives
END:VEVENT
END:VCALENDAR
