BEGIN:VCALENDAR
VERSION:2.0
PRODID:-//3qinnovation.org//NONSGML kigkonsult.se iCalcreator 2.30.10//
CALSCALE:GREGORIAN
METHOD:PUBLISH
UID:450aef38-3699-484a-84eb-b641c0dc1ab2
X-WR-CALDESC:Join UGC for the next episode of Urban Green Live\, a series f
 eaturing industry experts who share insights and then answer YOUR question
 s about a low carbon future.  \n\nOn April 19\,  Ian Shapiro\, founder and
  co-owner of Taitem Engineering - and one of New York’s leading experts on
  building electrification - will join Urban Green to discuss the building 
 industry’s readiness to electrify as well as the challenges of growing the
  workforce and reducing construction costs. This wide-ranging discussion w
 ill touch on everything from heat pumps to energy opportunities in New Yor
 k State.
X-WR-RELCALID:19483cdfb1bbbbec12ec50c643f8c65a
X-WR-TIMEZONE:America/New_York
BEGIN:VTIMEZONE
TZID:America/New_York
BEGIN:STANDARD
TZNAME:EST
DTSTART:20221106T020000
TZOFFSETFROM:-0400
TZOFFSETTO:-0500
RDATE:20231105T020000
END:STANDARD
BEGIN:DAYLIGHT
TZNAME:EDT
DTSTART:20230312T020000
TZOFFSETFROM:-0500
TZOFFSETTO:-0400
RDATE:20240310T020000
END:DAYLIGHT
END:VTIMEZONE
BEGIN:VEVENT
UID:d4a72eb0-37d2-4e51-ad49-bf394d4425e7
DTSTAMP:20260423T182826Z
DESCRIPTION:Join UGC for the next episode of Urban Green Live\, a series fe
 aturing industry experts who share insights and then answer YOUR questions
  about a low carbon future.  \n\nOn April 19\,  Ian Shapiro\, founder and 
 co-owner of Taitem Engineering - and one of New York’s leading experts on 
 building electrification - will join Urban Green to discuss the building i
 ndustry’s readiness to electrify as well as the challenges of growing the 
 workforce and reducing construction costs. This wide-ranging discussion wi
 ll touch on everything from heat pumps to energy opportunities in New York
  State.
DTSTART;TZID=America/New_York:20230419T110000
DTEND;TZID=America/New_York:20230419T120000
LOCATION:
SUMMARY:Urban Green Live: Pathways to Electrification (with Ian Shapiro)
END:VEVENT
END:VCALENDAR
