BEGIN:VCALENDAR
VERSION:2.0
PRODID:-//3qinnovation.org//NONSGML kigkonsult.se iCalcreator 2.30.10//
CALSCALE:GREGORIAN
METHOD:PUBLISH
UID:945d61cb-887b-4fc3-835b-c955a3d74d08
X-WR-CALDESC:Crushing the Code NYS: Commercial is an Urban Green Council co
 urse that prepares building and design professionals in New York State to:
  1) comply with the many requirements in the 2020 Energy Conservation Cons
 truction Code (ECCCNYS) and 2) by understanding ECCCNYS compliance require
 ments\, design more energy-efficient buildings.  \n\nIn an era of more str
 ingent code enforcement\, this course will also provide critical knowledge
  about significant changes\, new provisions\, and best practices that will
  help professionals avoid ECCCNYS compliance-related objections/delays tha
 t impact project timelines.
X-WR-RELCALID:bba7dd7d6d91814d4eaa560dfb1c6681
X-WR-TIMEZONE:America/New_York
BEGIN:VTIMEZONE
TZID:America/New_York
BEGIN:STANDARD
TZNAME:EST
DTSTART:20221106T020000
TZOFFSETFROM:-0400
TZOFFSETTO:-0500
RDATE:20231105T020000
END:STANDARD
BEGIN:DAYLIGHT
TZNAME:EDT
DTSTART:20230312T020000
TZOFFSETFROM:-0500
TZOFFSETTO:-0400
RDATE:20240310T020000
END:DAYLIGHT
END:VTIMEZONE
BEGIN:VEVENT
UID:3568a671-0abb-4421-ba15-0a7e3f77b52e
DTSTAMP:20260423T182029Z
DESCRIPTION:Crushing the Code NYS: Commercial is an Urban Green Council cou
 rse that prepares building and design professionals in New York State to: 
 1) comply with the many requirements in the 2020 Energy Conservation Const
 ruction Code (ECCCNYS) and 2) by understanding ECCCNYS compliance requirem
 ents\, design more energy-efficient buildings.  \n\nIn an era of more stri
 ngent code enforcement\, this course will also provide critical knowledge 
 about significant changes\, new provisions\, and best practices that will 
 help professionals avoid ECCCNYS compliance-related objections/delays that
  impact project timelines.
DTSTART;TZID=America/New_York:20230413T090000
DTEND;TZID=America/New_York:20230413T170000
LOCATION:
SUMMARY:Crushing the Code NY State: Commercial
END:VEVENT
END:VCALENDAR
