BEGIN:VCALENDAR
VERSION:2.0
PRODID:-//3qinnovation.org//NONSGML kigkonsult.se iCalcreator 2.30.10//
CALSCALE:GREGORIAN
METHOD:PUBLISH
UID:84c07e34-c87f-4776-bbfc-5b51d68485a7
X-WR-CALDESC:The U.S. Department of Energy's Better Buildings\, Better Plan
 ts Summit will be April 11-13\, 2023 at the Capital Hilton in Washington\,
  D.C. Plan to attend for engaging and interactive sessions\, as well as op
 portunities to network with fellow industry peers and experts.
X-WR-RELCALID:193ed49ee1b52543c2a22b07c807c518
X-WR-TIMEZONE:America/New_York
BEGIN:VTIMEZONE
TZID:America/New_York
BEGIN:STANDARD
TZNAME:EST
DTSTART:20221106T020000
TZOFFSETFROM:-0400
TZOFFSETTO:-0500
RDATE:20231105T020000
END:STANDARD
BEGIN:DAYLIGHT
TZNAME:EDT
DTSTART:20230312T020000
TZOFFSETFROM:-0500
TZOFFSETTO:-0400
RDATE:20240310T020000
END:DAYLIGHT
END:VTIMEZONE
BEGIN:VEVENT
UID:eba253b4-1f8d-415c-bb3c-c40bff8bcb28
DTSTAMP:20260423T182646Z
DESCRIPTION:The U.S. Department of Energy's Better Buildings\, Better Plant
 s Summit will be April 11-13\, 2023 at the Capital Hilton in Washington\, 
 D.C. Plan to attend for engaging and interactive sessions\, as well as opp
 ortunities to network with fellow industry peers and experts.
DTSTART;TZID=America/New_York:20230412T000000
DTEND;TZID=America/New_York:20230412T235900
LOCATION:Washington\, DC
SUMMARY:Better Buildings\, Better Plants Summit
END:VEVENT
END:VCALENDAR
